BEGIN:VCALENDAR
VERSION:2.0
PRODID:-//Achievement Prep DC - ECPv6.15.15//NONSGML v1.0//EN
CALSCALE:GREGORIAN
METHOD:PUBLISH
X-WR-CALNAME:Achievement Prep DC
X-ORIGINAL-URL:https://achievementprep.org
X-WR-CALDESC:Events for Achievement Prep DC
REFRESH-INTERVAL;VALUE=DURATION:PT1H
X-Robots-Tag:noindex
X-PUBLISHED-TTL:PT1H
BEGIN:VTIMEZONE
TZID:America/New_York
BEGIN:DAYLIGHT
TZOFFSETFROM:-0500
TZOFFSETTO:-0400
TZNAME:EDT
DTSTART:20230312T070000
END:DAYLIGHT
BEGIN:STANDARD
TZOFFSETFROM:-0400
TZOFFSETTO:-0500
TZNAME:EST
DTSTART:20231105T060000
END:STANDARD
BEGIN:DAYLIGHT
TZOFFSETFROM:-0500
TZOFFSETTO:-0400
TZNAME:EDT
DTSTART:20240310T070000
END:DAYLIGHT
BEGIN:STANDARD
TZOFFSETFROM:-0400
TZOFFSETTO:-0500
TZNAME:EST
DTSTART:20241103T060000
END:STANDARD
BEGIN:DAYLIGHT
TZOFFSETFROM:-0500
TZOFFSETTO:-0400
TZNAME:EDT
DTSTART:20250309T070000
END:DAYLIGHT
BEGIN:STANDARD
TZOFFSETFROM:-0400
TZOFFSETTO:-0500
TZNAME:EST
DTSTART:20251102T060000
END:STANDARD
END:VTIMEZONE
BEGIN:VEVENT
DTSTART;VALUE=DATE:20240516
DTEND;VALUE=DATE:20240517
DTSTAMP:20260421T135050
CREATED:20240509T154614Z
LAST-MODIFIED:20240509T154614Z
UID:10002108-1715817600-1715903999@achievementprep.org
SUMMARY:Chicken Caesar Salad
DESCRIPTION:
URL:https://achievementprep.org/event/chicken-caesar-salad-6/
CATEGORIES:Lunch Calendar
ATTACH;FMTTYPE=image/jpeg:https://achievementprep.org/wp-content/uploads/2023/11/ChickenCaesar.jpg
END:VEVENT
BEGIN:VEVENT
DTSTART;VALUE=DATE:20240516
DTEND;VALUE=DATE:20240517
DTSTAMP:20260421T135050
CREATED:20240509T154002Z
LAST-MODIFIED:20240509T154002Z
UID:10002097-1715817600-1715903999@achievementprep.org
SUMMARY:Ranch Dressing
DESCRIPTION:
URL:https://achievementprep.org/event/ranch-dressing-30/
CATEGORIES:Lunch Calendar
ATTACH;FMTTYPE=image/jpeg:https://achievementprep.org/wp-content/uploads/2023/09/ranch-dressing.jpg
END:VEVENT
BEGIN:VEVENT
DTSTART;VALUE=DATE:20240516
DTEND;VALUE=DATE:20240517
DTSTAMP:20260421T135050
CREATED:20240509T153544Z
LAST-MODIFIED:20240509T153544Z
UID:10002086-1715817600-1715903999@achievementprep.org
SUMMARY:Fresh Banana
DESCRIPTION:
URL:https://achievementprep.org/event/fresh-banana-31/
CATEGORIES:Lunch Calendar
ATTACH;FMTTYPE=image/jpeg:https://achievementprep.org/wp-content/uploads/2023/09/banana.jpg
END:VEVENT
BEGIN:VEVENT
DTSTART;VALUE=DATE:20240516
DTEND;VALUE=DATE:20240517
DTSTAMP:20260421T135050
CREATED:20240509T151747Z
LAST-MODIFIED:20240509T151747Z
UID:10002048-1715817600-1715903999@achievementprep.org
SUMMARY:Honey Cheerios
DESCRIPTION:
URL:https://achievementprep.org/event/honey-cheerios-12/
CATEGORIES:Breakfast Calendar
ATTACH;FMTTYPE=image/jpeg:https://achievementprep.org/wp-content/uploads/2023/09/honey-cheerios.jpg
END:VEVENT
BEGIN:VEVENT
DTSTART;VALUE=DATE:20240516
DTEND;VALUE=DATE:20240517
DTSTAMP:20260421T135050
CREATED:20240509T150311Z
LAST-MODIFIED:20240509T150311Z
UID:10002021-1715817600-1715903999@achievementprep.org
SUMMARY:100% Orange Juice
DESCRIPTION:
URL:https://achievementprep.org/event/100-orange-juice-28/
CATEGORIES:Breakfast Calendar
ATTACH;FMTTYPE=image/jpeg:https://achievementprep.org/wp-content/uploads/2023/09/orange-juice.jpg
END:VEVENT
BEGIN:VEVENT
DTSTART;VALUE=DATE:20240516
DTEND;VALUE=DATE:20240517
DTSTAMP:20260421T135050
CREATED:20240509T145712Z
LAST-MODIFIED:20240509T145712Z
UID:10002013-1715817600-1715903999@achievementprep.org
SUMMARY:Apple Slices
DESCRIPTION:
URL:https://achievementprep.org/event/apple-slices-53/
CATEGORIES:Breakfast Calendar
ATTACH;FMTTYPE=image/jpeg:https://achievementprep.org/wp-content/uploads/2023/09/istockphoto-529688068-612x612-1.jpg
END:VEVENT
BEGIN:VEVENT
DTSTART;VALUE=DATE:20240516
DTEND;VALUE=DATE:20240517
DTSTAMP:20260421T135050
CREATED:20240509T142049Z
LAST-MODIFIED:20240509T142049Z
UID:10001989-1715817600-1715903999@achievementprep.org
SUMMARY:Graham Crackers
DESCRIPTION:
URL:https://achievementprep.org/event/graham-crackers-81/
CATEGORIES:Breakfast Calendar
ATTACH;FMTTYPE=image/jpeg:https://achievementprep.org/wp-content/uploads/2023/09/honey-graham-crackers.jpg
END:VEVENT
BEGIN:VEVENT
DTSTART;VALUE=DATE:20240515
DTEND;VALUE=DATE:20240516
DTSTAMP:20260421T135050
CREATED:20240509T153102Z
LAST-MODIFIED:20240509T153102Z
UID:10002073-1715731200-1715817599@achievementprep.org
SUMMARY:Fresh Apple
DESCRIPTION:
URL:https://achievementprep.org/event/fresh-apple-91/
CATEGORIES:Lunch Calendar
ATTACH;FMTTYPE=image/jpeg:https://achievementprep.org/wp-content/uploads/2023/09/fresh-apple.jpg
END:VEVENT
BEGIN:VEVENT
DTSTART;VALUE=DATE:20240515
DTEND;VALUE=DATE:20240516
DTSTAMP:20260421T135050
CREATED:20240509T152759Z
LAST-MODIFIED:20240509T152759Z
UID:10002064-1715731200-1715817599@achievementprep.org
SUMMARY:Cold Roasted Turkey on Wheat
DESCRIPTION:
URL:https://achievementprep.org/event/cold-roasted-turkey-on-wheat-23/
CATEGORIES:Lunch Calendar
ATTACH;FMTTYPE=image/jpeg:https://achievementprep.org/wp-content/uploads/2023/11/TurkeyOnWheat.jpg
END:VEVENT
BEGIN:VEVENT
DTSTART;VALUE=DATE:20240515
DTEND;VALUE=DATE:20240516
DTSTAMP:20260421T135050
CREATED:20240509T152537Z
LAST-MODIFIED:20240509T152537Z
UID:10002059-1715731200-1715817599@achievementprep.org
SUMMARY:Cinnamon Raisin Bagel
DESCRIPTION:
URL:https://achievementprep.org/event/cinnamon-raisin-bagel-6/
CATEGORIES:Breakfast Calendar
ATTACH;FMTTYPE=image/png:https://achievementprep.org/wp-content/uploads/2023/10/CinnamonBagel.png
END:VEVENT
BEGIN:VEVENT
DTSTART;VALUE=DATE:20240515
DTEND;VALUE=DATE:20240516
DTSTAMP:20260421T135050
CREATED:20240509T151942Z
LAST-MODIFIED:20240509T151942Z
UID:10002052-1715731200-1715817599@achievementprep.org
SUMMARY:Diced Peaches
DESCRIPTION:
URL:https://achievementprep.org/event/diced-peaches-28/
CATEGORIES:Breakfast Calendar
ATTACH;FMTTYPE=image/jpeg:https://achievementprep.org/wp-content/uploads/2023/09/Org-Diced-Peaches.jpg
END:VEVENT
BEGIN:VEVENT
DTSTART;VALUE=DATE:20240514
DTEND;VALUE=DATE:20240515
DTSTAMP:20260421T135050
CREATED:20240509T154736Z
LAST-MODIFIED:20240509T154736Z
UID:10002110-1715644800-1715731199@achievementprep.org
SUMMARY:Roasted Potatoes
DESCRIPTION:
URL:https://achievementprep.org/event/roasted-potatoes-14/
CATEGORIES:Lunch Calendar
ATTACH;FMTTYPE=image/jpeg:https://achievementprep.org/wp-content/uploads/2023/09/tri-cut-red-potatoes-opc.jpg
END:VEVENT
BEGIN:VEVENT
DTSTART;VALUE=DATE:20240514
DTEND;VALUE=DATE:20240515
DTSTAMP:20260421T135050
CREATED:20240509T154648Z
LAST-MODIFIED:20240509T154648Z
UID:10002109-1715644800-1715731199@achievementprep.org
SUMMARY:Chicken Tenders
DESCRIPTION:
URL:https://achievementprep.org/event/chicken-tenders-7/
CATEGORIES:Lunch Calendar
ATTACH;FMTTYPE=image/jpeg:https://achievementprep.org/wp-content/uploads/2023/09/chicken-tendors.jpg
END:VEVENT
BEGIN:VEVENT
DTSTART;VALUE=DATE:20240514
DTEND;VALUE=DATE:20240515
DTSTAMP:20260421T135050
CREATED:20240509T151619Z
LAST-MODIFIED:20240509T151619Z
UID:10002044-1715644800-1715731199@achievementprep.org
SUMMARY:Diced Pineapples
DESCRIPTION:
URL:https://achievementprep.org/event/diced-pineapples-28/
CATEGORIES:Breakfast Calendar
ATTACH;FMTTYPE=image/jpeg:https://achievementprep.org/wp-content/uploads/2023/09/Org-Diced-Pineapple.jpg
END:VEVENT
BEGIN:VEVENT
DTSTART;VALUE=DATE:20240514
DTEND;VALUE=DATE:20240515
DTSTAMP:20260421T135050
CREATED:20240509T151439Z
LAST-MODIFIED:20240509T151439Z
UID:10002040-1715644800-1715731199@achievementprep.org
SUMMARY:Strawberry Yogurt
DESCRIPTION:
URL:https://achievementprep.org/event/strawberry-yogurt-28/
CATEGORIES:Breakfast Calendar
ATTACH;FMTTYPE=image/jpeg:https://achievementprep.org/wp-content/uploads/2023/09/4-oz-strawberry-yogurt-single-serve.jpg
END:VEVENT
BEGIN:VEVENT
DTSTART;VALUE=DATE:20240514
DTEND;VALUE=DATE:20240515
DTSTAMP:20260421T135050
CREATED:20240509T151029Z
LAST-MODIFIED:20240509T151029Z
UID:10002033-1715644800-1715731199@achievementprep.org
SUMMARY:Fresh Pear
DESCRIPTION:
URL:https://achievementprep.org/event/fresh-pear-45/
CATEGORIES:Lunch Calendar
ATTACH;FMTTYPE=image/jpeg:https://achievementprep.org/wp-content/uploads/2023/09/pear.jpg
END:VEVENT
BEGIN:VEVENT
DTSTART;VALUE=DATE:20240514
DTEND;VALUE=DATE:20240515
DTSTAMP:20260421T135050
CREATED:20240509T145649Z
LAST-MODIFIED:20240509T145649Z
UID:10002012-1715644800-1715731199@achievementprep.org
SUMMARY:Apple Slices
DESCRIPTION:
URL:https://achievementprep.org/event/apple-slices-52/
CATEGORIES:Breakfast Calendar
ATTACH;FMTTYPE=image/jpeg:https://achievementprep.org/wp-content/uploads/2023/09/istockphoto-529688068-612x612-1.jpg
END:VEVENT
BEGIN:VEVENT
DTSTART;VALUE=DATE:20240514
DTEND;VALUE=DATE:20240515
DTSTAMP:20260421T135050
CREATED:20240509T142032Z
LAST-MODIFIED:20240509T142032Z
UID:10001988-1715644800-1715731199@achievementprep.org
SUMMARY:Graham Crackers
DESCRIPTION:
URL:https://achievementprep.org/event/graham-crackers-80/
CATEGORIES:Breakfast Calendar
ATTACH;FMTTYPE=image/jpeg:https://achievementprep.org/wp-content/uploads/2023/09/honey-graham-crackers.jpg
END:VEVENT
BEGIN:VEVENT
DTSTART;VALUE=DATE:20240513
DTEND;VALUE=DATE:20240514
DTSTAMP:20260421T135050
CREATED:20240509T154222Z
LAST-MODIFIED:20240509T154222Z
UID:10002102-1715558400-1715644799@achievementprep.org
SUMMARY:Beef Meatballs
DESCRIPTION:
URL:https://achievementprep.org/event/beef-meatballs-11/
CATEGORIES:Lunch Calendar
ATTACH;FMTTYPE=image/jpeg:https://achievementprep.org/wp-content/uploads/2023/10/BBQMeatballs.jpg
END:VEVENT
BEGIN:VEVENT
DTSTART;VALUE=DATE:20240513
DTEND;VALUE=DATE:20240514
DTSTAMP:20260421T135050
CREATED:20240509T153043Z
LAST-MODIFIED:20240509T153043Z
UID:10002072-1715558400-1715644799@achievementprep.org
SUMMARY:Fresh Apple
DESCRIPTION:
URL:https://achievementprep.org/event/fresh-apple-90/
CATEGORIES:Lunch Calendar
ATTACH;FMTTYPE=image/jpeg:https://achievementprep.org/wp-content/uploads/2023/09/fresh-apple.jpg
END:VEVENT
BEGIN:VEVENT
DTSTART;VALUE=DATE:20240513
DTEND;VALUE=DATE:20240514
DTSTAMP:20260421T135050
CREATED:20240509T152454Z
LAST-MODIFIED:20240509T152454Z
UID:10002058-1715558400-1715644799@achievementprep.org
SUMMARY:Applesauce
DESCRIPTION:
URL:https://achievementprep.org/event/applesauce-15/
CATEGORIES:Breakfast Calendar
ATTACH;FMTTYPE=image/jpeg:https://achievementprep.org/wp-content/uploads/2023/09/519132.jpeg
END:VEVENT
BEGIN:VEVENT
DTSTART;VALUE=DATE:20240513
DTEND;VALUE=DATE:20240514
DTSTAMP:20260421T135050
CREATED:20240509T151828Z
LAST-MODIFIED:20240509T151828Z
UID:10002049-1715558400-1715644799@achievementprep.org
SUMMARY:Multi-Grain Cheerios
DESCRIPTION:
URL:https://achievementprep.org/event/multi-grain-cheerios-7/
CATEGORIES:Breakfast Calendar
ATTACH;FMTTYPE=image/jpeg:https://achievementprep.org/wp-content/uploads/2023/09/multi-grain-cheerios.jpg
END:VEVENT
BEGIN:VEVENT
DTSTART;VALUE=DATE:20240513
DTEND;VALUE=DATE:20240514
DTSTAMP:20260421T135050
CREATED:20240509T150548Z
LAST-MODIFIED:20240509T150548Z
UID:10002025-1715558400-1715644799@achievementprep.org
SUMMARY:Raisins
DESCRIPTION:
URL:https://achievementprep.org/event/raisins-36/
CATEGORIES:Breakfast Calendar
ATTACH;FMTTYPE=image/jpeg:https://achievementprep.org/wp-content/uploads/2023/09/raisins-sunmaid.jpg
END:VEVENT
BEGIN:VEVENT
DTSTART;VALUE=DATE:20240513
DTEND;VALUE=DATE:20240514
DTSTAMP:20260421T135050
CREATED:20240509T142015Z
LAST-MODIFIED:20240509T142015Z
UID:10001987-1715558400-1715644799@achievementprep.org
SUMMARY:Graham Crackers
DESCRIPTION:
URL:https://achievementprep.org/event/graham-crackers-79/
CATEGORIES:Breakfast Calendar
ATTACH;FMTTYPE=image/jpeg:https://achievementprep.org/wp-content/uploads/2023/09/honey-graham-crackers.jpg
END:VEVENT
BEGIN:VEVENT
DTSTART;VALUE=DATE:20240510
DTEND;VALUE=DATE:20240511
DTSTAMP:20260421T135050
CREATED:20240509T154556Z
LAST-MODIFIED:20240509T154556Z
UID:10002107-1715299200-1715385599@achievementprep.org
SUMMARY:Chicken Caesar Salad
DESCRIPTION:
URL:https://achievementprep.org/event/chicken-caesar-salad-5/
CATEGORIES:Lunch Calendar
ATTACH;FMTTYPE=image/jpeg:https://achievementprep.org/wp-content/uploads/2023/11/ChickenCaesar.jpg
END:VEVENT
BEGIN:VEVENT
DTSTART;VALUE=DATE:20240510
DTEND;VALUE=DATE:20240511
DTSTAMP:20260421T135050
CREATED:20240509T153849Z
LAST-MODIFIED:20240509T153849Z
UID:10002095-1715299200-1715385599@achievementprep.org
SUMMARY:Ranch Dressing
DESCRIPTION:
URL:https://achievementprep.org/event/ranch-dressing-28/
CATEGORIES:Lunch Calendar
ATTACH;FMTTYPE=image/jpeg:https://achievementprep.org/wp-content/uploads/2023/09/ranch-dressing.jpg
END:VEVENT
BEGIN:VEVENT
DTSTART;VALUE=DATE:20240510
DTEND;VALUE=DATE:20240511
DTSTAMP:20260421T135050
CREATED:20240509T153022Z
LAST-MODIFIED:20240509T153022Z
UID:10002071-1715299200-1715385599@achievementprep.org
SUMMARY:Fresh Apple
DESCRIPTION:
URL:https://achievementprep.org/event/fresh-apple-89/
CATEGORIES:Lunch Calendar
ATTACH;FMTTYPE=image/jpeg:https://achievementprep.org/wp-content/uploads/2023/09/fresh-apple.jpg
END:VEVENT
BEGIN:VEVENT
DTSTART;VALUE=DATE:20240510
DTEND;VALUE=DATE:20240511
DTSTAMP:20260421T135050
CREATED:20240509T152342Z
LAST-MODIFIED:20240509T152342Z
UID:10002057-1715299200-1715385599@achievementprep.org
SUMMARY:Apple Jacks
DESCRIPTION:
URL:https://achievementprep.org/event/apple-jacks-5/
CATEGORIES:Breakfast Calendar
END:VEVENT
BEGIN:VEVENT
DTSTART;VALUE=DATE:20240510
DTEND;VALUE=DATE:20240511
DTSTAMP:20260421T135050
CREATED:20240509T150534Z
LAST-MODIFIED:20240509T150534Z
UID:10002024-1715299200-1715385599@achievementprep.org
SUMMARY:Raisins
DESCRIPTION:
URL:https://achievementprep.org/event/raisins-35/
CATEGORIES:Breakfast Calendar
ATTACH;FMTTYPE=image/jpeg:https://achievementprep.org/wp-content/uploads/2023/09/raisins-sunmaid.jpg
END:VEVENT
BEGIN:VEVENT
DTSTART;VALUE=DATE:20240510
DTEND;VALUE=DATE:20240511
DTSTAMP:20260421T135050
CREATED:20240509T142953Z
LAST-MODIFIED:20240509T142953Z
UID:10002005-1715299200-1715385599@achievementprep.org
SUMMARY:100% Grape Juice
DESCRIPTION:
URL:https://achievementprep.org/event/100-grape-juice-56/
CATEGORIES:Breakfast Calendar
ATTACH;FMTTYPE=image/jpeg:https://achievementprep.org/wp-content/uploads/2023/10/GrapeJuice.jpg
END:VEVENT
END:VCALENDAR