BEGIN:VCALENDAR
VERSION:2.0
PRODID:-//Achievement Prep DC - ECPv6.15.15//NONSGML v1.0//EN
CALSCALE:GREGORIAN
METHOD:PUBLISH
X-ORIGINAL-URL:https://achievementprep.org
X-WR-CALDESC:Events for Achievement Prep DC
REFRESH-INTERVAL;VALUE=DURATION:PT1H
X-Robots-Tag:noindex
X-PUBLISHED-TTL:PT1H
BEGIN:VTIMEZONE
TZID:America/New_York
BEGIN:DAYLIGHT
TZOFFSETFROM:-0500
TZOFFSETTO:-0400
TZNAME:EDT
DTSTART:20230312T070000
END:DAYLIGHT
BEGIN:STANDARD
TZOFFSETFROM:-0400
TZOFFSETTO:-0500
TZNAME:EST
DTSTART:20231105T060000
END:STANDARD
BEGIN:DAYLIGHT
TZOFFSETFROM:-0500
TZOFFSETTO:-0400
TZNAME:EDT
DTSTART:20240310T070000
END:DAYLIGHT
BEGIN:STANDARD
TZOFFSETFROM:-0400
TZOFFSETTO:-0500
TZNAME:EST
DTSTART:20241103T060000
END:STANDARD
BEGIN:DAYLIGHT
TZOFFSETFROM:-0500
TZOFFSETTO:-0400
TZNAME:EDT
DTSTART:20250309T070000
END:DAYLIGHT
BEGIN:STANDARD
TZOFFSETFROM:-0400
TZOFFSETTO:-0500
TZNAME:EST
DTSTART:20251102T060000
END:STANDARD
END:VTIMEZONE
BEGIN:VEVENT
DTSTART;VALUE=DATE:20240502
DTEND;VALUE=DATE:20240503
DTSTAMP:20260420T041446
CREATED:20240509T153416Z
LAST-MODIFIED:20240509T153416Z
UID:10002082-1714608000-1714694399@achievementprep.org
SUMMARY:Cilantro Brown Rice & Street Corn
DESCRIPTION:
URL:https://achievementprep.org/event/cilantro-brown-rice-street-corn-8/
CATEGORIES:Lunch Calendar
ATTACH;FMTTYPE=image/jpeg:https://achievementprep.org/wp-content/uploads/2023/09/Calintro-brown-rice-and-street-corn.jpg
END:VEVENT
BEGIN:VEVENT
DTSTART;VALUE=DATE:20240502
DTEND;VALUE=DATE:20240503
DTSTAMP:20260420T041446
CREATED:20240509T153514Z
LAST-MODIFIED:20240509T153514Z
UID:10002084-1714608000-1714694399@achievementprep.org
SUMMARY:Fresh Banana
DESCRIPTION:
URL:https://achievementprep.org/event/fresh-banana-29/
CATEGORIES:Lunch Calendar
ATTACH;FMTTYPE=image/jpeg:https://achievementprep.org/wp-content/uploads/2023/09/banana.jpg
END:VEVENT
BEGIN:VEVENT
DTSTART;VALUE=DATE:20240503
DTEND;VALUE=DATE:20240504
DTSTAMP:20260420T041446
CREATED:20240509T142547Z
LAST-MODIFIED:20240509T142547Z
UID:10001997-1714694400-1714780799@achievementprep.org
SUMMARY:Cinnamon Crisp Bar
DESCRIPTION:
URL:https://achievementprep.org/event/cinnamon-crisp-bar-16/
CATEGORIES:Breakfast Calendar
ATTACH;FMTTYPE=image/jpeg:https://achievementprep.org/wp-content/uploads/2023/09/Unknown.jpeg
END:VEVENT
BEGIN:VEVENT
DTSTART;VALUE=DATE:20240503
DTEND;VALUE=DATE:20240504
DTSTAMP:20260420T041446
CREATED:20240509T142745Z
LAST-MODIFIED:20240509T142745Z
UID:10002001-1714694400-1714780799@achievementprep.org
SUMMARY:100% Grape Juice
DESCRIPTION:
URL:https://achievementprep.org/event/100-grape-juice-52/
CATEGORIES:Breakfast Calendar
ATTACH;FMTTYPE=image/jpeg:https://achievementprep.org/wp-content/uploads/2023/10/GrapeJuice.jpg
END:VEVENT
BEGIN:VEVENT
DTSTART;VALUE=DATE:20240503
DTEND;VALUE=DATE:20240504
DTSTAMP:20260420T041446
CREATED:20240509T150514Z
LAST-MODIFIED:20240509T150514Z
UID:10002023-1714694400-1714780799@achievementprep.org
SUMMARY:Raisins
DESCRIPTION:
URL:https://achievementprep.org/event/raisins-34/
CATEGORIES:Breakfast Calendar
ATTACH;FMTTYPE=image/jpeg:https://achievementprep.org/wp-content/uploads/2023/09/raisins-sunmaid.jpg
END:VEVENT
BEGIN:VEVENT
DTSTART;VALUE=DATE:20240503
DTEND;VALUE=DATE:20240504
DTSTAMP:20260420T041446
CREATED:20240509T152943Z
LAST-MODIFIED:20240509T152943Z
UID:10002068-1714694400-1714780799@achievementprep.org
SUMMARY:Fresh Apple
DESCRIPTION:
URL:https://achievementprep.org/event/fresh-apple-86/
CATEGORIES:Lunch Calendar
ATTACH;FMTTYPE=image/jpeg:https://achievementprep.org/wp-content/uploads/2023/09/fresh-apple.jpg
END:VEVENT
BEGIN:VEVENT
DTSTART;VALUE=DATE:20240503
DTEND;VALUE=DATE:20240504
DTSTAMP:20260420T041446
CREATED:20240509T153651Z
LAST-MODIFIED:20240509T153651Z
UID:10002089-1714694400-1714780799@achievementprep.org
SUMMARY:French Bread Cheese Pizza
DESCRIPTION:
URL:https://achievementprep.org/event/french-bread-cheese-pizza-13/
CATEGORIES:Lunch Calendar
ATTACH;FMTTYPE=image/jpeg:https://achievementprep.org/wp-content/uploads/2023/09/French-bread-cheese-pizza.jpg
END:VEVENT
BEGIN:VEVENT
DTSTART;VALUE=DATE:20240503
DTEND;VALUE=DATE:20240504
DTSTAMP:20260420T041446
CREATED:20240509T153750Z
LAST-MODIFIED:20240509T153750Z
UID:10002092-1714694400-1714780799@achievementprep.org
SUMMARY:Celery Sticks
DESCRIPTION:
URL:https://achievementprep.org/event/celery-sticks-7/
CATEGORIES:Lunch Calendar
ATTACH;FMTTYPE=image/jpeg:https://achievementprep.org/wp-content/uploads/2023/10/CelerySticks.jpg
END:VEVENT
BEGIN:VEVENT
DTSTART;VALUE=DATE:20240503
DTEND;VALUE=DATE:20240504
DTSTAMP:20260420T041446
CREATED:20240509T153835Z
LAST-MODIFIED:20240509T153835Z
UID:10002094-1714694400-1714780799@achievementprep.org
SUMMARY:Ranch Dressing
DESCRIPTION:
URL:https://achievementprep.org/event/ranch-dressing-27/
CATEGORIES:Lunch Calendar
ATTACH;FMTTYPE=image/jpeg:https://achievementprep.org/wp-content/uploads/2023/09/ranch-dressing.jpg
END:VEVENT
BEGIN:VEVENT
DTSTART;VALUE=DATE:20240506
DTEND;VALUE=DATE:20240507
DTSTAMP:20260420T041446
CREATED:20240509T150747Z
LAST-MODIFIED:20240509T150747Z
UID:10002028-1714953600-1715039999@achievementprep.org
SUMMARY:Cherry Cocoa Bar
DESCRIPTION:
URL:https://achievementprep.org/event/cherry-cocoa-bar-13/
CATEGORIES:Breakfast Calendar
ATTACH;FMTTYPE=image/jpeg:https://achievementprep.org/wp-content/uploads/2023/09/91NHSq1J3tL.jpg
END:VEVENT
BEGIN:VEVENT
DTSTART;VALUE=DATE:20240506
DTEND;VALUE=DATE:20240507
DTSTAMP:20260420T041446
CREATED:20240509T150842Z
LAST-MODIFIED:20240509T150904Z
UID:10002030-1714953600-1715039999@achievementprep.org
SUMMARY:Fresh Pear
DESCRIPTION:
URL:https://achievementprep.org/event/fresh-pear-42/
CATEGORIES:Breakfast Calendar
ATTACH;FMTTYPE=image/jpeg:https://achievementprep.org/wp-content/uploads/2023/09/pear.jpg
END:VEVENT
BEGIN:VEVENT
DTSTART;VALUE=DATE:20240506
DTEND;VALUE=DATE:20240507
DTSTAMP:20260420T041446
CREATED:20240509T151246Z
LAST-MODIFIED:20240509T151246Z
UID:10002036-1714953600-1715039999@achievementprep.org
SUMMARY:Very Berry Juice
DESCRIPTION:
URL:https://achievementprep.org/event/very-berry-juice-6/
CATEGORIES:Breakfast Calendar
END:VEVENT
BEGIN:VEVENT
DTSTART;VALUE=DATE:20240506
DTEND;VALUE=DATE:20240507
DTSTAMP:20260420T041446
CREATED:20240509T152955Z
LAST-MODIFIED:20240509T152955Z
UID:10002069-1714953600-1715039999@achievementprep.org
SUMMARY:Fresh Apple
DESCRIPTION:
URL:https://achievementprep.org/event/fresh-apple-87/
CATEGORIES:Lunch Calendar
ATTACH;FMTTYPE=image/jpeg:https://achievementprep.org/wp-content/uploads/2023/09/fresh-apple.jpg
END:VEVENT
BEGIN:VEVENT
DTSTART;VALUE=DATE:20240507
DTEND;VALUE=DATE:20240508
DTSTAMP:20260420T041446
CREATED:20240509T141929Z
LAST-MODIFIED:20240509T141929Z
UID:10001984-1715040000-1715126399@achievementprep.org
SUMMARY:Graham Crackers
DESCRIPTION:
URL:https://achievementprep.org/event/graham-crackers-76/
CATEGORIES:Breakfast Calendar
ATTACH;FMTTYPE=image/jpeg:https://achievementprep.org/wp-content/uploads/2023/09/honey-graham-crackers.jpg
END:VEVENT
BEGIN:VEVENT
DTSTART;VALUE=DATE:20240507
DTEND;VALUE=DATE:20240508
DTSTAMP:20260420T041446
CREATED:20240509T145454Z
LAST-MODIFIED:20240509T145454Z
UID:10002010-1715040000-1715126399@achievementprep.org
SUMMARY:Apple Slices
DESCRIPTION:
URL:https://achievementprep.org/event/apple-slices-50/
CATEGORIES:Breakfast Calendar
ATTACH;FMTTYPE=image/jpeg:https://achievementprep.org/wp-content/uploads/2023/09/istockphoto-529688068-612x612-1.jpg
END:VEVENT
BEGIN:VEVENT
DTSTART;VALUE=DATE:20240507
DTEND;VALUE=DATE:20240508
DTSTAMP:20260420T041446
CREATED:20240509T151012Z
LAST-MODIFIED:20240509T151012Z
UID:10002032-1715040000-1715126399@achievementprep.org
SUMMARY:Fresh Pear
DESCRIPTION:
URL:https://achievementprep.org/event/fresh-pear-44/
CATEGORIES:Lunch Calendar
ATTACH;FMTTYPE=image/jpeg:https://achievementprep.org/wp-content/uploads/2023/09/pear.jpg
END:VEVENT
BEGIN:VEVENT
DTSTART;VALUE=DATE:20240507
DTEND;VALUE=DATE:20240508
DTSTAMP:20260420T041446
CREATED:20240509T151424Z
LAST-MODIFIED:20240509T151424Z
UID:10002039-1715040000-1715126399@achievementprep.org
SUMMARY:Strawberry Yogurt
DESCRIPTION:
URL:https://achievementprep.org/event/strawberry-yogurt-27/
CATEGORIES:Breakfast Calendar
ATTACH;FMTTYPE=image/jpeg:https://achievementprep.org/wp-content/uploads/2023/09/4-oz-strawberry-yogurt-single-serve.jpg
END:VEVENT
BEGIN:VEVENT
DTSTART;VALUE=DATE:20240507
DTEND;VALUE=DATE:20240508
DTSTAMP:20260420T041446
CREATED:20240509T151559Z
LAST-MODIFIED:20240509T151559Z
UID:10002043-1715040000-1715126399@achievementprep.org
SUMMARY:Diced Pineapples
DESCRIPTION:
URL:https://achievementprep.org/event/diced-pineapples-27/
CATEGORIES:Breakfast Calendar
ATTACH;FMTTYPE=image/jpeg:https://achievementprep.org/wp-content/uploads/2023/09/Org-Diced-Pineapple.jpg
END:VEVENT
BEGIN:VEVENT
DTSTART;VALUE=DATE:20240507
DTEND;VALUE=DATE:20240508
DTSTAMP:20260420T041446
CREATED:20240509T154150Z
LAST-MODIFIED:20240509T154150Z
UID:10002101-1715040000-1715126399@achievementprep.org
SUMMARY:BBQ Chicken
DESCRIPTION:
URL:https://achievementprep.org/event/bbq-chicken-9/
CATEGORIES:Lunch Calendar
ATTACH;FMTTYPE=image/jpeg:https://achievementprep.org/wp-content/uploads/2023/09/barbecue-chicken.jpg
END:VEVENT
BEGIN:VEVENT
DTSTART;VALUE=DATE:20240507
DTEND;VALUE=DATE:20240508
DTSTAMP:20260420T041446
CREATED:20240509T154247Z
LAST-MODIFIED:20240509T154247Z
UID:10002103-1715040000-1715126399@achievementprep.org
SUMMARY:Baked Beans
DESCRIPTION:
URL:https://achievementprep.org/event/baked-beans-16/
CATEGORIES:Lunch Calendar
ATTACH;FMTTYPE=image/jpeg:https://achievementprep.org/wp-content/uploads/2023/09/ketchup-and-baked-beans.jpg
END:VEVENT
BEGIN:VEVENT
DTSTART;VALUE=DATE:20240507
DTEND;VALUE=DATE:20240508
DTSTAMP:20260420T041446
CREATED:20240509T154408Z
LAST-MODIFIED:20240509T154408Z
UID:10002104-1715040000-1715126399@achievementprep.org
SUMMARY:Brown Rice
DESCRIPTION:
URL:https://achievementprep.org/event/brown-rice-13/
CATEGORIES:Lunch Calendar
ATTACH;FMTTYPE=image/jpeg:https://achievementprep.org/wp-content/uploads/2023/10/BrownRice.jpg
END:VEVENT
BEGIN:VEVENT
DTSTART;VALUE=DATE:20240508
DTEND;VALUE=DATE:20240509
DTSTAMP:20260420T041446
CREATED:20240509T141945Z
LAST-MODIFIED:20240509T141945Z
UID:10001985-1715126400-1715212799@achievementprep.org
SUMMARY:Graham Crackers
DESCRIPTION:
URL:https://achievementprep.org/event/graham-crackers-77/
CATEGORIES:Breakfast Calendar
ATTACH;FMTTYPE=image/jpeg:https://achievementprep.org/wp-content/uploads/2023/09/honey-graham-crackers.jpg
END:VEVENT
BEGIN:VEVENT
DTSTART;VALUE=DATE:20240508
DTEND;VALUE=DATE:20240509
DTSTAMP:20260420T041446
CREATED:20240509T142810Z
LAST-MODIFIED:20240509T142810Z
UID:10002002-1715126400-1715212799@achievementprep.org
SUMMARY:100% Grape Juice
DESCRIPTION:
URL:https://achievementprep.org/event/100-grape-juice-53/
CATEGORIES:Breakfast Calendar
ATTACH;FMTTYPE=image/jpeg:https://achievementprep.org/wp-content/uploads/2023/10/GrapeJuice.jpg
END:VEVENT
BEGIN:VEVENT
DTSTART;VALUE=DATE:20240508
DTEND;VALUE=DATE:20240509
DTSTAMP:20260420T041446
CREATED:20240509T151731Z
LAST-MODIFIED:20240509T151731Z
UID:10002047-1715126400-1715212799@achievementprep.org
SUMMARY:Honey Cheerios
DESCRIPTION:
URL:https://achievementprep.org/event/honey-cheerios-11/
CATEGORIES:Breakfast Calendar
ATTACH;FMTTYPE=image/jpeg:https://achievementprep.org/wp-content/uploads/2023/09/honey-cheerios.jpg
END:VEVENT
BEGIN:VEVENT
DTSTART;VALUE=DATE:20240508
DTEND;VALUE=DATE:20240509
DTSTAMP:20260420T041446
CREATED:20240509T151924Z
LAST-MODIFIED:20240509T151924Z
UID:10002051-1715126400-1715212799@achievementprep.org
SUMMARY:Diced Peaches
DESCRIPTION:
URL:https://achievementprep.org/event/diced-peaches-27/
CATEGORIES:Breakfast Calendar
ATTACH;FMTTYPE=image/jpeg:https://achievementprep.org/wp-content/uploads/2023/09/Org-Diced-Peaches.jpg
END:VEVENT
BEGIN:VEVENT
DTSTART;VALUE=DATE:20240508
DTEND;VALUE=DATE:20240509
DTSTAMP:20260420T041446
CREATED:20240509T152742Z
LAST-MODIFIED:20240509T152742Z
UID:10002063-1715126400-1715212799@achievementprep.org
SUMMARY:Cold Roasted Turkey on Wheat
DESCRIPTION:
URL:https://achievementprep.org/event/cold-roasted-turkey-on-wheat-22/
CATEGORIES:Lunch Calendar
ATTACH;FMTTYPE=image/jpeg:https://achievementprep.org/wp-content/uploads/2023/11/TurkeyOnWheat.jpg
END:VEVENT
BEGIN:VEVENT
DTSTART;VALUE=DATE:20240508
DTEND;VALUE=DATE:20240509
DTSTAMP:20260420T041446
CREATED:20240509T153007Z
LAST-MODIFIED:20240509T153007Z
UID:10002070-1715126400-1715212799@achievementprep.org
SUMMARY:Fresh Apple
DESCRIPTION:
URL:https://achievementprep.org/event/fresh-apple-88/
CATEGORIES:Lunch Calendar
ATTACH;FMTTYPE=image/jpeg:https://achievementprep.org/wp-content/uploads/2023/09/fresh-apple.jpg
END:VEVENT
BEGIN:VEVENT
DTSTART;VALUE=DATE:20240509
DTEND;VALUE=DATE:20240510
DTSTAMP:20260420T041446
CREATED:20240509T145509Z
LAST-MODIFIED:20240509T145509Z
UID:10002011-1715212800-1715299199@achievementprep.org
SUMMARY:Apple Slices
DESCRIPTION:
URL:https://achievementprep.org/event/apple-slices-51/
CATEGORIES:Breakfast Calendar
ATTACH;FMTTYPE=image/jpeg:https://achievementprep.org/wp-content/uploads/2023/09/istockphoto-529688068-612x612-1.jpg
END:VEVENT
BEGIN:VEVENT
DTSTART;VALUE=DATE:20240509
DTEND;VALUE=DATE:20240510
DTSTAMP:20260420T041446
CREATED:20240509T150255Z
LAST-MODIFIED:20240509T150255Z
UID:10002020-1715212800-1715299199@achievementprep.org
SUMMARY:100% Orange Juice
DESCRIPTION:
URL:https://achievementprep.org/event/100-orange-juice-27/
CATEGORIES:Breakfast Calendar
ATTACH;FMTTYPE=image/jpeg:https://achievementprep.org/wp-content/uploads/2023/09/orange-juice.jpg
END:VEVENT
BEGIN:VEVENT
DTSTART;VALUE=DATE:20240509
DTEND;VALUE=DATE:20240510
DTSTAMP:20260420T041446
CREATED:20240509T151902Z
LAST-MODIFIED:20240509T151902Z
UID:10002050-1715212800-1715299199@achievementprep.org
SUMMARY:Plain Bagel
DESCRIPTION:
URL:https://achievementprep.org/event/plain-bagel-15/
CATEGORIES:Breakfast Calendar
ATTACH;FMTTYPE=image/png:https://achievementprep.org/wp-content/uploads/2023/09/Screenshot-2023-09-18-at-9.12.46-AM.png
END:VEVENT
END:VCALENDAR