BEGIN:VCALENDAR
VERSION:2.0
PRODID:-//Achievement Prep DC - ECPv6.15.15//NONSGML v1.0//EN
CALSCALE:GREGORIAN
METHOD:PUBLISH
X-WR-CALNAME:Achievement Prep DC
X-ORIGINAL-URL:https://achievementprep.org
X-WR-CALDESC:Events for Achievement Prep DC
REFRESH-INTERVAL;VALUE=DURATION:PT1H
X-Robots-Tag:noindex
X-PUBLISHED-TTL:PT1H
BEGIN:VTIMEZONE
TZID:America/New_York
BEGIN:DAYLIGHT
TZOFFSETFROM:-0500
TZOFFSETTO:-0400
TZNAME:EDT
DTSTART:20230312T070000
END:DAYLIGHT
BEGIN:STANDARD
TZOFFSETFROM:-0400
TZOFFSETTO:-0500
TZNAME:EST
DTSTART:20231105T060000
END:STANDARD
BEGIN:DAYLIGHT
TZOFFSETFROM:-0500
TZOFFSETTO:-0400
TZNAME:EDT
DTSTART:20240310T070000
END:DAYLIGHT
BEGIN:STANDARD
TZOFFSETFROM:-0400
TZOFFSETTO:-0500
TZNAME:EST
DTSTART:20241103T060000
END:STANDARD
BEGIN:DAYLIGHT
TZOFFSETFROM:-0500
TZOFFSETTO:-0400
TZNAME:EDT
DTSTART:20250309T070000
END:DAYLIGHT
BEGIN:STANDARD
TZOFFSETFROM:-0400
TZOFFSETTO:-0500
TZNAME:EST
DTSTART:20251102T060000
END:STANDARD
END:VTIMEZONE
BEGIN:VEVENT
DTSTART;VALUE=DATE:20240426
DTEND;VALUE=DATE:20240427
DTSTAMP:20260420T000615
CREATED:20240408T153035Z
LAST-MODIFIED:20240408T153035Z
UID:10001905-1714089600-1714175999@achievementprep.org
SUMMARY:Very Berry Juice
DESCRIPTION:
URL:https://achievementprep.org/event/very-berry-juice-5/
CATEGORIES:Breakfast Calendar
END:VEVENT
BEGIN:VEVENT
DTSTART;VALUE=DATE:20240426
DTEND;VALUE=DATE:20240427
DTSTAMP:20260420T000615
CREATED:20240408T153445Z
LAST-MODIFIED:20240408T153445Z
UID:10001912-1714089600-1714175999@achievementprep.org
SUMMARY:Blueberry Muffin
DESCRIPTION:
URL:https://achievementprep.org/event/blueberry-muffin-9/
CATEGORIES:Breakfast Calendar
ATTACH;FMTTYPE=image/png:https://achievementprep.org/wp-content/uploads/2023/09/blueberry-muffin.png
END:VEVENT
BEGIN:VEVENT
DTSTART;VALUE=DATE:20240426
DTEND;VALUE=DATE:20240427
DTSTAMP:20260420T000615
CREATED:20240408T153520Z
LAST-MODIFIED:20240408T153520Z
UID:10001913-1714089600-1714175999@achievementprep.org
SUMMARY:Fresh Orange
DESCRIPTION:
URL:https://achievementprep.org/event/fresh-orange-9/
CATEGORIES:Breakfast Calendar
ATTACH;FMTTYPE=image/jpeg:https://achievementprep.org/wp-content/uploads/2024/02/Orange.jpg
END:VEVENT
BEGIN:VEVENT
DTSTART;VALUE=DATE:20240426
DTEND;VALUE=DATE:20240427
DTSTAMP:20260420T000615
CREATED:20240408T172323Z
LAST-MODIFIED:20240408T172323Z
UID:10001942-1714089600-1714175999@achievementprep.org
SUMMARY:Fresh Apple
DESCRIPTION:
URL:https://achievementprep.org/event/fresh-apple-83/
CATEGORIES:Lunch Calendar
ATTACH;FMTTYPE=image/jpeg:https://achievementprep.org/wp-content/uploads/2023/09/fresh-apple.jpg
END:VEVENT
BEGIN:VEVENT
DTSTART;VALUE=DATE:20240426
DTEND;VALUE=DATE:20240427
DTSTAMP:20260420T000615
CREATED:20240408T201228Z
LAST-MODIFIED:20240408T201228Z
UID:10001960-1714089600-1714175999@achievementprep.org
SUMMARY:Baby Carrots
DESCRIPTION:
URL:https://achievementprep.org/event/baby-carrots-21/
CATEGORIES:Lunch Calendar
ATTACH;FMTTYPE=image/jpeg:https://achievementprep.org/wp-content/uploads/2023/09/baby-carrots.jpg
END:VEVENT
BEGIN:VEVENT
DTSTART;VALUE=DATE:20240426
DTEND;VALUE=DATE:20240427
DTSTAMP:20260420T000615
CREATED:20240408T201546Z
LAST-MODIFIED:20240408T201546Z
UID:10001967-1714089600-1714175999@achievementprep.org
SUMMARY:Cheese Pizza
DESCRIPTION:
URL:https://achievementprep.org/event/cheese-pizza-13/
CATEGORIES:Lunch Calendar
ATTACH;FMTTYPE=image/jpeg:https://achievementprep.org/wp-content/uploads/2023/09/cheese-pizza.jpg
END:VEVENT
BEGIN:VEVENT
DTSTART;VALUE=DATE:20240429
DTEND;VALUE=DATE:20240430
DTSTAMP:20260420T000615
CREATED:20240407T191106Z
LAST-MODIFIED:20240407T191106Z
UID:10001856-1714348800-1714435199@achievementprep.org
SUMMARY:Banana Muffin
DESCRIPTION:
URL:https://achievementprep.org/event/banana-muffin-9/
CATEGORIES:Breakfast Calendar
ATTACH;FMTTYPE=image/jpeg:https://achievementprep.org/wp-content/uploads/2023/09/banana-muffin.jpg
END:VEVENT
BEGIN:VEVENT
DTSTART;VALUE=DATE:20240429
DTEND;VALUE=DATE:20240430
DTSTAMP:20260420T000615
CREATED:20240407T191401Z
LAST-MODIFIED:20240407T191401Z
UID:10001861-1714348800-1714435199@achievementprep.org
SUMMARY:Applesauce
DESCRIPTION:
URL:https://achievementprep.org/event/applesauce-14/
CATEGORIES:Breakfast Calendar
ATTACH;FMTTYPE=image/jpeg:https://achievementprep.org/wp-content/uploads/2023/09/519132.jpeg
END:VEVENT
BEGIN:VEVENT
DTSTART;VALUE=DATE:20240429
DTEND;VALUE=DATE:20240430
DTSTAMP:20260420T000615
CREATED:20240407T191424Z
LAST-MODIFIED:20240407T191424Z
UID:10001862-1714348800-1714435199@achievementprep.org
SUMMARY:Raisins
DESCRIPTION:
URL:https://achievementprep.org/event/raisins-33/
CATEGORIES:Breakfast Calendar
ATTACH;FMTTYPE=image/jpeg:https://achievementprep.org/wp-content/uploads/2023/09/raisins-sunmaid.jpg
END:VEVENT
BEGIN:VEVENT
DTSTART;VALUE=DATE:20240429
DTEND;VALUE=DATE:20240430
DTSTAMP:20260420T000615
CREATED:20240408T171432Z
LAST-MODIFIED:20240408T171432Z
UID:10001927-1714348800-1714435199@achievementprep.org
SUMMARY:Chicken Nuggets
DESCRIPTION:
URL:https://achievementprep.org/event/chicken-nuggets-9/
CATEGORIES:Lunch Calendar
ATTACH;FMTTYPE=image/jpeg:https://achievementprep.org/wp-content/uploads/2023/09/Chicken-Nuggets.jpg
END:VEVENT
BEGIN:VEVENT
DTSTART;VALUE=DATE:20240429
DTEND;VALUE=DATE:20240430
DTSTAMP:20260420T000615
CREATED:20240408T171812Z
LAST-MODIFIED:20240408T171812Z
UID:10001931-1714348800-1714435199@achievementprep.org
SUMMARY:Ketsup
DESCRIPTION:
URL:https://achievementprep.org/event/ketsup-16/
CATEGORIES:Lunch Calendar
ATTACH;FMTTYPE=image/jpeg:https://achievementprep.org/wp-content/uploads/2023/10/Ketsup.jpg
END:VEVENT
BEGIN:VEVENT
DTSTART;VALUE=DATE:20240429
DTEND;VALUE=DATE:20240430
DTSTAMP:20260420T000615
CREATED:20240408T171955Z
LAST-MODIFIED:20240408T171955Z
UID:10001934-1714348800-1714435199@achievementprep.org
SUMMARY:Baked Beans
DESCRIPTION:
URL:https://achievementprep.org/event/baked-beans-15/
CATEGORIES:Lunch Calendar
ATTACH;FMTTYPE=image/jpeg:https://achievementprep.org/wp-content/uploads/2023/09/ketchup-and-baked-beans.jpg
END:VEVENT
BEGIN:VEVENT
DTSTART;VALUE=DATE:20240429
DTEND;VALUE=DATE:20240430
DTSTAMP:20260420T000615
CREATED:20240408T172341Z
LAST-MODIFIED:20240408T172341Z
UID:10001943-1714348800-1714435199@achievementprep.org
SUMMARY:Fresh Apple
DESCRIPTION:
URL:https://achievementprep.org/event/fresh-apple-84/
CATEGORIES:Lunch Calendar
ATTACH;FMTTYPE=image/jpeg:https://achievementprep.org/wp-content/uploads/2023/09/fresh-apple.jpg
END:VEVENT
BEGIN:VEVENT
DTSTART;VALUE=DATE:20240430
DTEND;VALUE=DATE:20240501
DTSTAMP:20260420T000615
CREATED:20240407T191611Z
LAST-MODIFIED:20240407T191611Z
UID:10001866-1714435200-1714521599@achievementprep.org
SUMMARY:Strawberry Yogurt
DESCRIPTION:
URL:https://achievementprep.org/event/strawberry-yogurt-26/
CATEGORIES:Breakfast Calendar
ATTACH;FMTTYPE=image/jpeg:https://achievementprep.org/wp-content/uploads/2023/09/4-oz-strawberry-yogurt-single-serve.jpg
END:VEVENT
BEGIN:VEVENT
DTSTART;VALUE=DATE:20240430
DTEND;VALUE=DATE:20240501
DTSTAMP:20260420T000615
CREATED:20240407T191935Z
LAST-MODIFIED:20240407T191935Z
UID:10001875-1714435200-1714521599@achievementprep.org
SUMMARY:Graham Crackers
DESCRIPTION:
URL:https://achievementprep.org/event/graham-crackers-73/
CATEGORIES:Breakfast Calendar
ATTACH;FMTTYPE=image/jpeg:https://achievementprep.org/wp-content/uploads/2023/09/honey-graham-crackers.jpg
END:VEVENT
BEGIN:VEVENT
DTSTART;VALUE=DATE:20240430
DTEND;VALUE=DATE:20240501
DTSTAMP:20260420T000615
CREATED:20240407T192244Z
LAST-MODIFIED:20240407T192244Z
UID:10001882-1714435200-1714521599@achievementprep.org
SUMMARY:Apple Slices
DESCRIPTION:
URL:https://achievementprep.org/event/apple-slices-48/
CATEGORIES:Breakfast Calendar
ATTACH;FMTTYPE=image/jpeg:https://achievementprep.org/wp-content/uploads/2023/09/istockphoto-529688068-612x612-1.jpg
END:VEVENT
BEGIN:VEVENT
DTSTART;VALUE=DATE:20240430
DTEND;VALUE=DATE:20240501
DTSTAMP:20260420T000615
CREATED:20240408T150821Z
LAST-MODIFIED:20240408T150821Z
UID:10001886-1714435200-1714521599@achievementprep.org
SUMMARY:Diced Pineapples
DESCRIPTION:
URL:https://achievementprep.org/event/diced-pineapples-26/
CATEGORIES:Breakfast Calendar
ATTACH;FMTTYPE=image/jpeg:https://achievementprep.org/wp-content/uploads/2023/09/Org-Diced-Pineapple.jpg
END:VEVENT
BEGIN:VEVENT
DTSTART;VALUE=DATE:20240430
DTEND;VALUE=DATE:20240501
DTSTAMP:20260420T000615
CREATED:20240408T172551Z
LAST-MODIFIED:20240408T172551Z
UID:10001947-1714435200-1714521599@achievementprep.org
SUMMARY:Broccoli
DESCRIPTION:
URL:https://achievementprep.org/event/broccoli-12/
CATEGORIES:Lunch Calendar
ATTACH;FMTTYPE=image/jpeg:https://achievementprep.org/wp-content/uploads/2023/09/Brocolli.jpg
END:VEVENT
BEGIN:VEVENT
DTSTART;VALUE=DATE:20240430
DTEND;VALUE=DATE:20240501
DTSTAMP:20260420T000615
CREATED:20240408T174500Z
LAST-MODIFIED:20240408T174500Z
UID:10001952-1714435200-1714521599@achievementprep.org
SUMMARY:Fresh Pear
DESCRIPTION:
URL:https://achievementprep.org/event/fresh-pear-41/
CATEGORIES:Lunch Calendar
ATTACH;FMTTYPE=image/jpeg:https://achievementprep.org/wp-content/uploads/2023/09/pear.jpg
END:VEVENT
BEGIN:VEVENT
DTSTART;VALUE=DATE:20240430
DTEND;VALUE=DATE:20240501
DTSTAMP:20260420T000615
CREATED:20240408T202133Z
LAST-MODIFIED:20240408T202133Z
UID:10001978-1714435200-1714521599@achievementprep.org
SUMMARY:Home-Style Macaroni & Cheese
DESCRIPTION:
URL:https://achievementprep.org/event/home-style-macaroni-cheese-3/
CATEGORIES:Lunch Calendar
ATTACH;FMTTYPE=image/jpeg:https://achievementprep.org/wp-content/uploads/2023/09/Home-style-macroni-and-cheese.jpg
END:VEVENT
BEGIN:VEVENT
DTSTART;VALUE=DATE:20240501
DTEND;VALUE=DATE:20240502
DTSTAMP:20260420T000615
CREATED:20240509T141722Z
LAST-MODIFIED:20240509T141722Z
UID:10001979-1714521600-1714607999@achievementprep.org
SUMMARY:Multi-Grain Frosted Flakes
DESCRIPTION:
URL:https://achievementprep.org/event/multi-grain-frosted-flakes-5/
CATEGORIES:Breakfast Calendar
ATTACH;FMTTYPE=image/jpeg:https://achievementprep.org/wp-content/uploads/2023/09/kelloggs-cinamon-flakes-multi-grain.jpg
END:VEVENT
BEGIN:VEVENT
DTSTART;VALUE=DATE:20240501
DTEND;VALUE=DATE:20240502
DTSTAMP:20260420T000615
CREATED:20240509T141852Z
LAST-MODIFIED:20240509T141852Z
UID:10001982-1714521600-1714607999@achievementprep.org
SUMMARY:Graham Crackers
DESCRIPTION:
URL:https://achievementprep.org/event/graham-crackers-74/
CATEGORIES:Breakfast Calendar
ATTACH;FMTTYPE=image/jpeg:https://achievementprep.org/wp-content/uploads/2023/09/honey-graham-crackers.jpg
END:VEVENT
BEGIN:VEVENT
DTSTART;VALUE=DATE:20240501
DTEND;VALUE=DATE:20240502
DTSTAMP:20260420T000615
CREATED:20240509T142724Z
LAST-MODIFIED:20240509T142724Z
UID:10002000-1714521600-1714607999@achievementprep.org
SUMMARY:100% Grape Juice
DESCRIPTION:
URL:https://achievementprep.org/event/100-grape-juice-51/
CATEGORIES:Breakfast Calendar
ATTACH;FMTTYPE=image/jpeg:https://achievementprep.org/wp-content/uploads/2023/10/GrapeJuice.jpg
END:VEVENT
BEGIN:VEVENT
DTSTART;VALUE=DATE:20240501
DTEND;VALUE=DATE:20240502
DTSTAMP:20260420T000615
CREATED:20240509T152728Z
LAST-MODIFIED:20240509T152728Z
UID:10002062-1714521600-1714607999@achievementprep.org
SUMMARY:Cold Roasted Turkey on Wheat
DESCRIPTION:
URL:https://achievementprep.org/event/cold-roasted-turkey-on-wheat-21/
CATEGORIES:Lunch Calendar
ATTACH;FMTTYPE=image/jpeg:https://achievementprep.org/wp-content/uploads/2023/11/TurkeyOnWheat.jpg
END:VEVENT
BEGIN:VEVENT
DTSTART;VALUE=DATE:20240501
DTEND;VALUE=DATE:20240502
DTSTAMP:20260420T000615
CREATED:20240509T152931Z
LAST-MODIFIED:20240509T152931Z
UID:10002067-1714521600-1714607999@achievementprep.org
SUMMARY:Fresh Apple
DESCRIPTION:
URL:https://achievementprep.org/event/fresh-apple-85/
CATEGORIES:Lunch Calendar
ATTACH;FMTTYPE=image/jpeg:https://achievementprep.org/wp-content/uploads/2023/09/fresh-apple.jpg
END:VEVENT
BEGIN:VEVENT
DTSTART;VALUE=DATE:20240502
DTEND;VALUE=DATE:20240503
DTSTAMP:20260420T000615
CREATED:20240509T141912Z
LAST-MODIFIED:20240509T141912Z
UID:10001983-1714608000-1714694399@achievementprep.org
SUMMARY:Graham Crackers
DESCRIPTION:
URL:https://achievementprep.org/event/graham-crackers-75/
CATEGORIES:Breakfast Calendar
ATTACH;FMTTYPE=image/jpeg:https://achievementprep.org/wp-content/uploads/2023/09/honey-graham-crackers.jpg
END:VEVENT
BEGIN:VEVENT
DTSTART;VALUE=DATE:20240502
DTEND;VALUE=DATE:20240503
DTSTAMP:20260420T000615
CREATED:20240509T142416Z
LAST-MODIFIED:20240509T142416Z
UID:10001995-1714608000-1714694399@achievementprep.org
SUMMARY:Cinnamon Toast Crunch
DESCRIPTION:
URL:https://achievementprep.org/event/cinnamon-toast-crunch-9/
CATEGORIES:Breakfast Calendar
END:VEVENT
BEGIN:VEVENT
DTSTART;VALUE=DATE:20240502
DTEND;VALUE=DATE:20240503
DTSTAMP:20260420T000615
CREATED:20240509T145438Z
LAST-MODIFIED:20240509T145438Z
UID:10002009-1714608000-1714694399@achievementprep.org
SUMMARY:Apple Slices
DESCRIPTION:
URL:https://achievementprep.org/event/apple-slices-49/
CATEGORIES:Breakfast Calendar
ATTACH;FMTTYPE=image/jpeg:https://achievementprep.org/wp-content/uploads/2023/09/istockphoto-529688068-612x612-1.jpg
END:VEVENT
BEGIN:VEVENT
DTSTART;VALUE=DATE:20240502
DTEND;VALUE=DATE:20240503
DTSTAMP:20260420T000615
CREATED:20240509T150237Z
LAST-MODIFIED:20240509T150237Z
UID:10002019-1714608000-1714694399@achievementprep.org
SUMMARY:100% Orange Juice
DESCRIPTION:
URL:https://achievementprep.org/event/100-orange-juice-26/
CATEGORIES:Breakfast Calendar
ATTACH;FMTTYPE=image/jpeg:https://achievementprep.org/wp-content/uploads/2023/09/orange-juice.jpg
END:VEVENT
BEGIN:VEVENT
DTSTART;VALUE=DATE:20240502
DTEND;VALUE=DATE:20240503
DTSTAMP:20260420T000615
CREATED:20240509T153328Z
LAST-MODIFIED:20240509T153328Z
UID:10002080-1714608000-1714694399@achievementprep.org
SUMMARY:Adobo Chicken
DESCRIPTION:
URL:https://achievementprep.org/event/adobo-chicken-8/
CATEGORIES:Lunch Calendar
ATTACH;FMTTYPE=image/jpeg:https://achievementprep.org/wp-content/uploads/2023/09/Chicken-Adobo.jpeg
END:VEVENT
END:VCALENDAR