BEGIN:VCALENDAR
VERSION:2.0
PRODID:-//Achievement Prep DC - ECPv6.15.15//NONSGML v1.0//EN
CALSCALE:GREGORIAN
METHOD:PUBLISH
X-WR-CALNAME:Achievement Prep DC
X-ORIGINAL-URL:https://achievementprep.org
X-WR-CALDESC:Events for Achievement Prep DC
REFRESH-INTERVAL;VALUE=DURATION:PT1H
X-Robots-Tag:noindex
X-PUBLISHED-TTL:PT1H
BEGIN:VTIMEZONE
TZID:America/New_York
BEGIN:DAYLIGHT
TZOFFSETFROM:-0500
TZOFFSETTO:-0400
TZNAME:EDT
DTSTART:20220313T070000
END:DAYLIGHT
BEGIN:STANDARD
TZOFFSETFROM:-0400
TZOFFSETTO:-0500
TZNAME:EST
DTSTART:20221106T060000
END:STANDARD
BEGIN:DAYLIGHT
TZOFFSETFROM:-0500
TZOFFSETTO:-0400
TZNAME:EDT
DTSTART:20230312T070000
END:DAYLIGHT
BEGIN:STANDARD
TZOFFSETFROM:-0400
TZOFFSETTO:-0500
TZNAME:EST
DTSTART:20231105T060000
END:STANDARD
BEGIN:DAYLIGHT
TZOFFSETFROM:-0500
TZOFFSETTO:-0400
TZNAME:EDT
DTSTART:20240310T070000
END:DAYLIGHT
BEGIN:STANDARD
TZOFFSETFROM:-0400
TZOFFSETTO:-0500
TZNAME:EST
DTSTART:20241103T060000
END:STANDARD
END:VTIMEZONE
BEGIN:VEVENT
DTSTART;VALUE=DATE:20231023
DTEND;VALUE=DATE:20231024
DTSTAMP:20260419T221818
CREATED:20231007T051207Z
LAST-MODIFIED:20231007T051207Z
UID:10001135-1698019200-1698105599@achievementprep.org
SUMMARY:Meatloaf with Gravy
DESCRIPTION:
URL:https://achievementprep.org/event/meatloaf-with-gravy/
CATEGORIES:Lunch Calendar
ATTACH;FMTTYPE=image/jpeg:https://achievementprep.org/wp-content/uploads/2023/10/MeatloafWGravy.jpg
END:VEVENT
BEGIN:VEVENT
DTSTART;VALUE=DATE:20231023
DTEND;VALUE=DATE:20231024
DTSTAMP:20260419T221818
CREATED:20231007T023336Z
LAST-MODIFIED:20231007T023336Z
UID:10001061-1698019200-1698105599@achievementprep.org
SUMMARY:100% Pineapple Juice
DESCRIPTION:
URL:https://achievementprep.org/event/100-pineapple-juice-4/
CATEGORIES:Breakfast Calendar
ATTACH;FMTTYPE=image/jpeg:https://achievementprep.org/wp-content/uploads/2023/09/Pineapple-juice-1.jpg
END:VEVENT
BEGIN:VEVENT
DTSTART;VALUE=DATE:20231023
DTEND;VALUE=DATE:20231024
DTSTAMP:20260419T221818
CREATED:20231007T023312Z
LAST-MODIFIED:20231007T023312Z
UID:10001060-1698019200-1698105599@achievementprep.org
SUMMARY:Fresh Pear
DESCRIPTION:
URL:https://achievementprep.org/event/fresh-pear-6/
CATEGORIES:Breakfast Calendar
ATTACH;FMTTYPE=image/jpeg:https://achievementprep.org/wp-content/uploads/2023/09/pear.jpg
END:VEVENT
BEGIN:VEVENT
DTSTART;VALUE=DATE:20231023
DTEND;VALUE=DATE:20231024
DTSTAMP:20260419T221818
CREATED:20231007T023258Z
LAST-MODIFIED:20231007T023258Z
UID:10001059-1698019200-1698105599@achievementprep.org
SUMMARY:Cherry Cocoa Bar
DESCRIPTION:
URL:https://achievementprep.org/event/cherry-cocoa-bar-3/
CATEGORIES:Breakfast Calendar
ATTACH;FMTTYPE=image/jpeg:https://achievementprep.org/wp-content/uploads/2023/09/91NHSq1J3tL.jpg
END:VEVENT
BEGIN:VEVENT
DTSTART;VALUE=DATE:20231023
DTEND;VALUE=DATE:20231024
DTSTAMP:20260419T221818
CREATED:20230830T160207Z
LAST-MODIFIED:20230830T160207Z
UID:10000859-1698019200-1698105599@achievementprep.org
SUMMARY:Fall Spirit Week
DESCRIPTION:
URL:https://achievementprep.org/event/fall-spirit-week/2023-10-23/
LOCATION:Achievement Prep\, 908 Wahler Place SE\, Washington\, DC\, 20032\, United States
CATEGORIES:Academic Calendar
END:VEVENT
BEGIN:VEVENT
DTSTART;VALUE=DATE:20231020
DTEND;VALUE=DATE:20231021
DTSTAMP:20260419T221818
CREATED:20231007T050436Z
LAST-MODIFIED:20231007T050436Z
UID:10001134-1697760000-1697846399@achievementprep.org
SUMMARY:Fresh Apple
DESCRIPTION:
URL:https://achievementprep.org/event/fresh-apple-19/
CATEGORIES:Lunch Calendar
ATTACH;FMTTYPE=image/jpeg:https://achievementprep.org/wp-content/uploads/2023/09/fresh-apple.jpg
END:VEVENT
BEGIN:VEVENT
DTSTART;VALUE=DATE:20231020
DTEND;VALUE=DATE:20231021
DTSTAMP:20260419T221818
CREATED:20231007T050410Z
LAST-MODIFIED:20231007T050410Z
UID:10001133-1697760000-1697846399@achievementprep.org
SUMMARY:Ranch Dressing
DESCRIPTION:
URL:https://achievementprep.org/event/ranch-dressing-7/
CATEGORIES:Lunch Calendar
ATTACH;FMTTYPE=image/jpeg:https://achievementprep.org/wp-content/uploads/2023/09/ranch-dressing.jpg
END:VEVENT
BEGIN:VEVENT
DTSTART;VALUE=DATE:20231020
DTEND;VALUE=DATE:20231021
DTSTAMP:20260419T221818
CREATED:20231007T050350Z
LAST-MODIFIED:20231007T050350Z
UID:10001132-1697760000-1697846399@achievementprep.org
SUMMARY:Celery Sticks
DESCRIPTION:
URL:https://achievementprep.org/event/celery-sticks-2/
CATEGORIES:Lunch Calendar
ATTACH;FMTTYPE=image/jpeg:https://achievementprep.org/wp-content/uploads/2023/10/CelerySticks.jpg
END:VEVENT
BEGIN:VEVENT
DTSTART;VALUE=DATE:20231020
DTEND;VALUE=DATE:20231021
DTSTAMP:20260419T221818
CREATED:20231007T050321Z
LAST-MODIFIED:20231007T050321Z
UID:10001131-1697760000-1697846399@achievementprep.org
SUMMARY:French Bread Cheese Pizza
DESCRIPTION:
URL:https://achievementprep.org/event/french-bread-cheese-pizza-3/
CATEGORIES:Lunch Calendar
ATTACH;FMTTYPE=image/jpeg:https://achievementprep.org/wp-content/uploads/2023/09/French-bread-cheese-pizza.jpg
END:VEVENT
BEGIN:VEVENT
DTSTART;VALUE=DATE:20231020
DTEND;VALUE=DATE:20231021
DTSTAMP:20260419T221818
CREATED:20231007T023154Z
LAST-MODIFIED:20231007T023154Z
UID:10001058-1697760000-1697846399@achievementprep.org
SUMMARY:100% Grape Juice
DESCRIPTION:
URL:https://achievementprep.org/event/100-grape-juice-14/
CATEGORIES:Breakfast Calendar
ATTACH;FMTTYPE=image/jpeg:https://achievementprep.org/wp-content/uploads/2023/10/GrapeJuice.jpg
END:VEVENT
BEGIN:VEVENT
DTSTART;VALUE=DATE:20231020
DTEND;VALUE=DATE:20231021
DTSTAMP:20260419T221818
CREATED:20231007T023132Z
LAST-MODIFIED:20231007T023132Z
UID:10001057-1697760000-1697846399@achievementprep.org
SUMMARY:Raisins
DESCRIPTION:
URL:https://achievementprep.org/event/raisins-6/
CATEGORIES:Breakfast Calendar
ATTACH;FMTTYPE=image/jpeg:https://achievementprep.org/wp-content/uploads/2023/09/raisins-sunmaid.jpg
END:VEVENT
BEGIN:VEVENT
DTSTART;VALUE=DATE:20231020
DTEND;VALUE=DATE:20231021
DTSTAMP:20260419T221818
CREATED:20231007T023113Z
LAST-MODIFIED:20231007T023113Z
UID:10001056-1697760000-1697846399@achievementprep.org
SUMMARY:Cinnamon Crisp Bar
DESCRIPTION:
URL:https://achievementprep.org/event/cinnamon-crisp-bar-4/
CATEGORIES:Breakfast Calendar
ATTACH;FMTTYPE=image/jpeg:https://achievementprep.org/wp-content/uploads/2023/09/Unknown.jpeg
END:VEVENT
BEGIN:VEVENT
DTSTART;VALUE=DATE:20231019
DTEND;VALUE=DATE:20231020
DTSTAMP:20260419T221818
CREATED:20231007T050258Z
LAST-MODIFIED:20231007T050258Z
UID:10001130-1697673600-1697759999@achievementprep.org
SUMMARY:Fresh Banana
DESCRIPTION:
URL:https://achievementprep.org/event/fresh-banana-5/
CATEGORIES:Lunch Calendar
ATTACH;FMTTYPE=image/jpeg:https://achievementprep.org/wp-content/uploads/2023/09/banana.jpg
END:VEVENT
BEGIN:VEVENT
DTSTART;VALUE=DATE:20231019
DTEND;VALUE=DATE:20231020
DTSTAMP:20260419T221818
CREATED:20231007T045512Z
LAST-MODIFIED:20231007T050228Z
UID:10001129-1697673600-1697759999@achievementprep.org
SUMMARY:Sweet Potato
DESCRIPTION:
URL:https://achievementprep.org/event/sweet-potato/
CATEGORIES:Lunch Calendar
ATTACH;FMTTYPE=image/jpeg:https://achievementprep.org/wp-content/uploads/2023/10/SweetPotato.jpg
END:VEVENT
BEGIN:VEVENT
DTSTART;VALUE=DATE:20231019
DTEND;VALUE=DATE:20231020
DTSTAMP:20260419T221818
CREATED:20231007T045116Z
LAST-MODIFIED:20231007T045437Z
UID:10001128-1697673600-1697759999@achievementprep.org
SUMMARY:Scrambled Eggs
DESCRIPTION:
URL:https://achievementprep.org/event/scrambled-eggs/
CATEGORIES:Lunch Calendar
ATTACH;FMTTYPE=image/jpeg:https://achievementprep.org/wp-content/uploads/2023/10/ScrambledEggs.jpg
END:VEVENT
BEGIN:VEVENT
DTSTART;VALUE=DATE:20231019
DTEND;VALUE=DATE:20231020
DTSTAMP:20260419T221818
CREATED:20231007T045039Z
LAST-MODIFIED:20231007T045039Z
UID:10001127-1697673600-1697759999@achievementprep.org
SUMMARY:French Toast Sticks
DESCRIPTION:
URL:https://achievementprep.org/event/french-toast-sticks/
CATEGORIES:Lunch Calendar
ATTACH;FMTTYPE=image/jpeg:https://achievementprep.org/wp-content/uploads/2023/10/FrenchToastSticks.jpg
END:VEVENT
BEGIN:VEVENT
DTSTART;VALUE=DATE:20231019
DTEND;VALUE=DATE:20231020
DTSTAMP:20260419T221818
CREATED:20231007T023036Z
LAST-MODIFIED:20231007T023036Z
UID:10001055-1697673600-1697759999@achievementprep.org
SUMMARY:100% Orange Juice
DESCRIPTION:
URL:https://achievementprep.org/event/100-orange-juice-6/
CATEGORIES:Breakfast Calendar
ATTACH;FMTTYPE=image/jpeg:https://achievementprep.org/wp-content/uploads/2023/09/orange-juice.jpg
END:VEVENT
BEGIN:VEVENT
DTSTART;VALUE=DATE:20231019
DTEND;VALUE=DATE:20231020
DTSTAMP:20260419T221818
CREATED:20231007T023012Z
LAST-MODIFIED:20231007T023012Z
UID:10001054-1697673600-1697759999@achievementprep.org
SUMMARY:Apple Slices
DESCRIPTION:
URL:https://achievementprep.org/event/apple-slices-4/
CATEGORIES:Breakfast Calendar
ATTACH;FMTTYPE=image/jpeg:https://achievementprep.org/wp-content/uploads/2023/09/istockphoto-529688068-612x612-1.jpg
END:VEVENT
BEGIN:VEVENT
DTSTART;VALUE=DATE:20231019
DTEND;VALUE=DATE:20231020
DTSTAMP:20260419T221818
CREATED:20231007T022953Z
LAST-MODIFIED:20231007T022953Z
UID:10001053-1697673600-1697759999@achievementprep.org
SUMMARY:Graham Crackers
DESCRIPTION:
URL:https://achievementprep.org/event/graham-crackers-13/
CATEGORIES:Breakfast Calendar
ATTACH;FMTTYPE=image/jpeg:https://achievementprep.org/wp-content/uploads/2023/09/honey-graham-crackers.jpg
END:VEVENT
BEGIN:VEVENT
DTSTART;VALUE=DATE:20231019
DTEND;VALUE=DATE:20231020
DTSTAMP:20260419T221818
CREATED:20231007T022932Z
LAST-MODIFIED:20231007T022932Z
UID:10001052-1697673600-1697759999@achievementprep.org
SUMMARY:Cinnamon Toast Crunch
DESCRIPTION:
URL:https://achievementprep.org/event/cinnamon-toast-crunch-2/
CATEGORIES:Breakfast Calendar
END:VEVENT
BEGIN:VEVENT
DTSTART;VALUE=DATE:20231018
DTEND;VALUE=DATE:20231019
DTSTAMP:20260419T221818
CREATED:20231007T044327Z
LAST-MODIFIED:20231007T044327Z
UID:10001125-1697587200-1697673599@achievementprep.org
SUMMARY:Cilantro Brown Rice & Street Corn
DESCRIPTION:
URL:https://achievementprep.org/event/cilantro-brown-rice-street-corn-2/
CATEGORIES:Lunch Calendar
ATTACH;FMTTYPE=image/jpeg:https://achievementprep.org/wp-content/uploads/2023/09/Calintro-brown-rice-and-street-corn.jpg
END:VEVENT
BEGIN:VEVENT
DTSTART;VALUE=DATE:20231018
DTEND;VALUE=DATE:20231019
DTSTAMP:20260419T221818
CREATED:20231007T043929Z
LAST-MODIFIED:20231007T043929Z
UID:10001124-1697587200-1697673599@achievementprep.org
SUMMARY:Adobo Chicken
DESCRIPTION:
URL:https://achievementprep.org/event/adobo-chicken-2/
CATEGORIES:Lunch Calendar
ATTACH;FMTTYPE=image/jpeg:https://achievementprep.org/wp-content/uploads/2023/09/Chicken-Adobo.jpeg
END:VEVENT
BEGIN:VEVENT
DTSTART;VALUE=DATE:20231018
DTEND;VALUE=DATE:20231019
DTSTAMP:20260419T221818
CREATED:20231007T022900Z
LAST-MODIFIED:20231007T022900Z
UID:10001051-1697587200-1697673599@achievementprep.org
SUMMARY:100% Grape Juice
DESCRIPTION:
URL:https://achievementprep.org/event/100-grape-juice-13/
CATEGORIES:Breakfast Calendar
ATTACH;FMTTYPE=image/jpeg:https://achievementprep.org/wp-content/uploads/2023/10/GrapeJuice.jpg
END:VEVENT
BEGIN:VEVENT
DTSTART;VALUE=DATE:20231018
DTEND;VALUE=DATE:20231019
DTSTAMP:20260419T221818
CREATED:20231007T022840Z
LAST-MODIFIED:20231007T022840Z
UID:10001050-1697587200-1697673599@achievementprep.org
SUMMARY:Diced Peaches
DESCRIPTION:
URL:https://achievementprep.org/event/diced-peaches-4/
CATEGORIES:Breakfast Calendar
ATTACH;FMTTYPE=image/jpeg:https://achievementprep.org/wp-content/uploads/2023/09/Org-Diced-Peaches.jpg
END:VEVENT
BEGIN:VEVENT
DTSTART;VALUE=DATE:20231018
DTEND;VALUE=DATE:20231019
DTSTAMP:20260419T221818
CREATED:20231007T022820Z
LAST-MODIFIED:20231007T022820Z
UID:10001049-1697587200-1697673599@achievementprep.org
SUMMARY:Graham Crackers
DESCRIPTION:
URL:https://achievementprep.org/event/graham-crackers-12/
CATEGORIES:Breakfast Calendar
ATTACH;FMTTYPE=image/jpeg:https://achievementprep.org/wp-content/uploads/2023/09/honey-graham-crackers.jpg
END:VEVENT
BEGIN:VEVENT
DTSTART;VALUE=DATE:20231018
DTEND;VALUE=DATE:20231019
DTSTAMP:20260419T221818
CREATED:20231007T022138Z
LAST-MODIFIED:20231007T022138Z
UID:10001048-1697587200-1697673599@achievementprep.org
SUMMARY:Frosted Flakes
DESCRIPTION:
URL:https://achievementprep.org/event/frosted-flakes-2/
CATEGORIES:Breakfast Calendar
ATTACH;FMTTYPE=image/jpeg:https://achievementprep.org/wp-content/uploads/2023/09/kelloggs-cinamon-flakes-multi-grain.jpg
END:VEVENT
BEGIN:VEVENT
DTSTART;VALUE=DATE:20231018
DTEND;VALUE=DATE:20231019
DTSTAMP:20260419T221818
CREATED:20230830T160119Z
LAST-MODIFIED:20230830T160128Z
UID:10000858-1697587200-1697673599@achievementprep.org
SUMMARY:Walk With Me Wednesday #1
DESCRIPTION:
URL:https://achievementprep.org/event/walk-with-me-wednesday-1/
LOCATION:Achievement Prep\, 908 Wahler Place SE\, Washington\, DC\, 20032\, United States
CATEGORIES:Academic Calendar
END:VEVENT
BEGIN:VEVENT
DTSTART;VALUE=DATE:20231017
DTEND;VALUE=DATE:20231018
DTSTAMP:20260419T221818
CREATED:20231007T043843Z
LAST-MODIFIED:20231007T043843Z
UID:10001123-1697500800-1697587199@achievementprep.org
SUMMARY:Fresh Pear
DESCRIPTION:
URL:https://achievementprep.org/event/fresh-pear-9/
CATEGORIES:Lunch Calendar
ATTACH;FMTTYPE=image/jpeg:https://achievementprep.org/wp-content/uploads/2023/09/pear.jpg
END:VEVENT
BEGIN:VEVENT
DTSTART;VALUE=DATE:20231017
DTEND;VALUE=DATE:20231018
DTSTAMP:20260419T221818
CREATED:20231007T043823Z
LAST-MODIFIED:20231007T043823Z
UID:10001122-1697500800-1697587199@achievementprep.org
SUMMARY:Broccoli
DESCRIPTION:
URL:https://achievementprep.org/event/broccoli-5/
CATEGORIES:Lunch Calendar
ATTACH;FMTTYPE=image/jpeg:https://achievementprep.org/wp-content/uploads/2023/09/Brocolli.jpg
END:VEVENT
BEGIN:VEVENT
DTSTART;VALUE=DATE:20231017
DTEND;VALUE=DATE:20231018
DTSTAMP:20260419T221818
CREATED:20231007T043758Z
LAST-MODIFIED:20231007T043758Z
UID:10001121-1697500800-1697587199@achievementprep.org
SUMMARY:Club Roll
DESCRIPTION:
URL:https://achievementprep.org/event/club-roll-2/
CATEGORIES:Lunch Calendar
ATTACH;FMTTYPE=image/jpeg:https://achievementprep.org/wp-content/uploads/2023/10/ClubRoll.jpg
END:VEVENT
END:VCALENDAR