BEGIN:VCALENDAR
VERSION:2.0
PRODID:-//Achievement Prep DC - ECPv6.15.15//NONSGML v1.0//EN
CALSCALE:GREGORIAN
METHOD:PUBLISH
X-WR-CALNAME:Achievement Prep DC
X-ORIGINAL-URL:https://achievementprep.org
X-WR-CALDESC:Events for Achievement Prep DC
REFRESH-INTERVAL;VALUE=DURATION:PT1H
X-Robots-Tag:noindex
X-PUBLISHED-TTL:PT1H
BEGIN:VTIMEZONE
TZID:America/New_York
BEGIN:DAYLIGHT
TZOFFSETFROM:-0500
TZOFFSETTO:-0400
TZNAME:EDT
DTSTART:20220313T070000
END:DAYLIGHT
BEGIN:STANDARD
TZOFFSETFROM:-0400
TZOFFSETTO:-0500
TZNAME:EST
DTSTART:20221106T060000
END:STANDARD
BEGIN:DAYLIGHT
TZOFFSETFROM:-0500
TZOFFSETTO:-0400
TZNAME:EDT
DTSTART:20230312T070000
END:DAYLIGHT
BEGIN:STANDARD
TZOFFSETFROM:-0400
TZOFFSETTO:-0500
TZNAME:EST
DTSTART:20231105T060000
END:STANDARD
BEGIN:DAYLIGHT
TZOFFSETFROM:-0500
TZOFFSETTO:-0400
TZNAME:EDT
DTSTART:20240310T070000
END:DAYLIGHT
BEGIN:STANDARD
TZOFFSETFROM:-0400
TZOFFSETTO:-0500
TZNAME:EST
DTSTART:20241103T060000
END:STANDARD
END:VTIMEZONE
BEGIN:VEVENT
DTSTART;VALUE=DATE:20231025
DTEND;VALUE=DATE:20231026
DTSTAMP:20260419T193744
CREATED:20231007T052659Z
LAST-MODIFIED:20231007T052659Z
UID:10001145-1698192000-1698278399@achievementprep.org
SUMMARY:Fresh Apple
DESCRIPTION:
URL:https://achievementprep.org/event/fresh-apple-21/
CATEGORIES:Lunch Calendar
ATTACH;FMTTYPE=image/jpeg:https://achievementprep.org/wp-content/uploads/2023/09/fresh-apple.jpg
END:VEVENT
BEGIN:VEVENT
DTSTART;VALUE=DATE:20231025
DTEND;VALUE=DATE:20231026
DTSTAMP:20260419T193744
CREATED:20231007T052637Z
LAST-MODIFIED:20231007T052637Z
UID:10001144-1698192000-1698278399@achievementprep.org
SUMMARY:Baked Beans
DESCRIPTION:
URL:https://achievementprep.org/event/baked-beans-3/
CATEGORIES:Lunch Calendar
ATTACH;FMTTYPE=image/jpeg:https://achievementprep.org/wp-content/uploads/2023/09/ketchup-and-baked-beans.jpg
END:VEVENT
BEGIN:VEVENT
DTSTART;VALUE=DATE:20231025
DTEND;VALUE=DATE:20231026
DTSTAMP:20260419T193744
CREATED:20231007T052616Z
LAST-MODIFIED:20231007T052616Z
UID:10001143-1698192000-1698278399@achievementprep.org
SUMMARY:Brown Rice
DESCRIPTION:
URL:https://achievementprep.org/event/brown-rice-2/
CATEGORIES:Lunch Calendar
ATTACH;FMTTYPE=image/jpeg:https://achievementprep.org/wp-content/uploads/2023/10/BrownRice.jpg
END:VEVENT
BEGIN:VEVENT
DTSTART;VALUE=DATE:20231025
DTEND;VALUE=DATE:20231026
DTSTAMP:20260419T193744
CREATED:20231007T052555Z
LAST-MODIFIED:20231007T052555Z
UID:10001142-1698192000-1698278399@achievementprep.org
SUMMARY:BBQ Chicken
DESCRIPTION:
URL:https://achievementprep.org/event/bbq-chicken-2/
CATEGORIES:Lunch Calendar
ATTACH;FMTTYPE=image/jpeg:https://achievementprep.org/wp-content/uploads/2023/09/barbecue-chicken.jpg
END:VEVENT
BEGIN:VEVENT
DTSTART;VALUE=DATE:20231025
DTEND;VALUE=DATE:20231026
DTSTAMP:20260419T193744
CREATED:20231007T023705Z
LAST-MODIFIED:20231007T023705Z
UID:10001070-1698192000-1698278399@achievementprep.org
SUMMARY:100% Grape Juice
DESCRIPTION:
URL:https://achievementprep.org/event/100-grape-juice-15/
CATEGORIES:Breakfast Calendar
ATTACH;FMTTYPE=image/jpeg:https://achievementprep.org/wp-content/uploads/2023/10/GrapeJuice.jpg
END:VEVENT
BEGIN:VEVENT
DTSTART;VALUE=DATE:20231025
DTEND;VALUE=DATE:20231026
DTSTAMP:20260419T193744
CREATED:20231007T023647Z
LAST-MODIFIED:20231007T023647Z
UID:10001069-1698192000-1698278399@achievementprep.org
SUMMARY:Diced Peaches
DESCRIPTION:
URL:https://achievementprep.org/event/diced-peaches-5/
CATEGORIES:Breakfast Calendar
ATTACH;FMTTYPE=image/jpeg:https://achievementprep.org/wp-content/uploads/2023/09/Org-Diced-Peaches.jpg
END:VEVENT
BEGIN:VEVENT
DTSTART;VALUE=DATE:20231025
DTEND;VALUE=DATE:20231026
DTSTAMP:20260419T193744
CREATED:20231007T023629Z
LAST-MODIFIED:20231007T023629Z
UID:10001068-1698192000-1698278399@achievementprep.org
SUMMARY:Graham Crackers
DESCRIPTION:
URL:https://achievementprep.org/event/graham-crackers-15/
CATEGORIES:Breakfast Calendar
ATTACH;FMTTYPE=image/jpeg:https://achievementprep.org/wp-content/uploads/2023/09/honey-graham-crackers.jpg
END:VEVENT
BEGIN:VEVENT
DTSTART;VALUE=DATE:20231025
DTEND;VALUE=DATE:20231026
DTSTAMP:20260419T193744
CREATED:20231007T023607Z
LAST-MODIFIED:20231007T023607Z
UID:10001067-1698192000-1698278399@achievementprep.org
SUMMARY:Honey Cheerios
DESCRIPTION:
URL:https://achievementprep.org/event/honey-cheerios-2/
CATEGORIES:Breakfast Calendar
ATTACH;FMTTYPE=image/jpeg:https://achievementprep.org/wp-content/uploads/2023/09/honey-cheerios.jpg
END:VEVENT
BEGIN:VEVENT
DTSTART;VALUE=DATE:20231025
DTEND;VALUE=DATE:20231026
DTSTAMP:20260419T193744
CREATED:20230830T160207Z
LAST-MODIFIED:20230830T160207Z
UID:10000861-1698192000-1698278399@achievementprep.org
SUMMARY:Fall Spirit Week
DESCRIPTION:
URL:https://achievementprep.org/event/fall-spirit-week/2023-10-25/
LOCATION:Achievement Prep\, 908 Wahler Place SE\, Washington\, DC\, 20032\, United States
CATEGORIES:Academic Calendar
END:VEVENT
BEGIN:VEVENT
DTSTART;VALUE=DATE:20231024
DTEND;VALUE=DATE:20231025
DTSTAMP:20260419T193744
CREATED:20231007T052527Z
LAST-MODIFIED:20231007T052527Z
UID:10001141-1698105600-1698191999@achievementprep.org
SUMMARY:Fresh Pear
DESCRIPTION:
URL:https://achievementprep.org/event/fresh-pear-10/
CATEGORIES:Lunch Calendar
ATTACH;FMTTYPE=image/jpeg:https://achievementprep.org/wp-content/uploads/2023/09/pear.jpg
END:VEVENT
BEGIN:VEVENT
DTSTART;VALUE=DATE:20231024
DTEND;VALUE=DATE:20231025
DTSTAMP:20260419T193744
CREATED:20231007T052511Z
LAST-MODIFIED:20231007T052511Z
UID:10001140-1698105600-1698191999@achievementprep.org
SUMMARY:Green Beans
DESCRIPTION:
URL:https://achievementprep.org/event/green-beans-3/
CATEGORIES:Lunch Calendar
ATTACH;FMTTYPE=image/jpeg:https://achievementprep.org/wp-content/uploads/2023/09/green-beans.jpg
END:VEVENT
BEGIN:VEVENT
DTSTART;VALUE=DATE:20231024
DTEND;VALUE=DATE:20231025
DTSTAMP:20260419T193744
CREATED:20231007T052451Z
LAST-MODIFIED:20231007T052451Z
UID:10001139-1698105600-1698191999@achievementprep.org
SUMMARY:Brown Rice
DESCRIPTION:
URL:https://achievementprep.org/event/brown-rice/
CATEGORIES:Lunch Calendar
ATTACH;FMTTYPE=image/jpeg:https://achievementprep.org/wp-content/uploads/2023/10/BrownRice.jpg
END:VEVENT
BEGIN:VEVENT
DTSTART;VALUE=DATE:20231024
DTEND;VALUE=DATE:20231025
DTSTAMP:20260419T193744
CREATED:20231007T052116Z
LAST-MODIFIED:20231007T052116Z
UID:10001138-1698105600-1698191999@achievementprep.org
SUMMARY:Sweet and Sour Meatball
DESCRIPTION:
URL:https://achievementprep.org/event/sweet-and-sour-meatball/
CATEGORIES:Lunch Calendar
ATTACH;FMTTYPE=image/jpeg:https://achievementprep.org/wp-content/uploads/2023/10/SweetSourMeatball.jpg
END:VEVENT
BEGIN:VEVENT
DTSTART;VALUE=DATE:20231024
DTEND;VALUE=DATE:20231025
DTSTAMP:20260419T193744
CREATED:20231007T023533Z
LAST-MODIFIED:20231007T023533Z
UID:10001066-1698105600-1698191999@achievementprep.org
SUMMARY:Diced Pineapples
DESCRIPTION:
URL:https://achievementprep.org/event/diced-pineapples-3/
CATEGORIES:Breakfast Calendar
ATTACH;FMTTYPE=image/jpeg:https://achievementprep.org/wp-content/uploads/2023/09/Org-Diced-Pineapple.jpg
END:VEVENT
BEGIN:VEVENT
DTSTART;VALUE=DATE:20231024
DTEND;VALUE=DATE:20231025
DTSTAMP:20260419T193744
CREATED:20231007T023443Z
LAST-MODIFIED:20231007T023443Z
UID:10001064-1698105600-1698191999@achievementprep.org
SUMMARY:Apple Slices
DESCRIPTION:
URL:https://achievementprep.org/event/apple-slices-5/
CATEGORIES:Breakfast Calendar
ATTACH;FMTTYPE=image/jpeg:https://achievementprep.org/wp-content/uploads/2023/09/istockphoto-529688068-612x612-1.jpg
END:VEVENT
BEGIN:VEVENT
DTSTART;VALUE=DATE:20231024
DTEND;VALUE=DATE:20231025
DTSTAMP:20260419T193744
CREATED:20231007T023423Z
LAST-MODIFIED:20231007T023423Z
UID:10001063-1698105600-1698191999@achievementprep.org
SUMMARY:Graham Crackers
DESCRIPTION:
URL:https://achievementprep.org/event/graham-crackers-14/
CATEGORIES:Breakfast Calendar
ATTACH;FMTTYPE=image/jpeg:https://achievementprep.org/wp-content/uploads/2023/09/honey-graham-crackers.jpg
END:VEVENT
BEGIN:VEVENT
DTSTART;VALUE=DATE:20231024
DTEND;VALUE=DATE:20231025
DTSTAMP:20260419T193744
CREATED:20231007T023403Z
LAST-MODIFIED:20231007T023403Z
UID:10001062-1698105600-1698191999@achievementprep.org
SUMMARY:Strawberry Yogurt
DESCRIPTION:
URL:https://achievementprep.org/event/strawberry-yogurt-3/
CATEGORIES:Breakfast Calendar
ATTACH;FMTTYPE=image/jpeg:https://achievementprep.org/wp-content/uploads/2023/09/4-oz-strawberry-yogurt-single-serve.jpg
END:VEVENT
BEGIN:VEVENT
DTSTART;VALUE=DATE:20231024
DTEND;VALUE=DATE:20231025
DTSTAMP:20260419T193744
CREATED:20230830T160207Z
LAST-MODIFIED:20230830T160207Z
UID:10000860-1698105600-1698191999@achievementprep.org
SUMMARY:Fall Spirit Week
DESCRIPTION:
URL:https://achievementprep.org/event/fall-spirit-week/2023-10-24/
LOCATION:Achievement Prep\, 908 Wahler Place SE\, Washington\, DC\, 20032\, United States
CATEGORIES:Academic Calendar
END:VEVENT
BEGIN:VEVENT
DTSTART;VALUE=DATE:20231023
DTEND;VALUE=DATE:20231024
DTSTAMP:20260419T193744
CREATED:20231007T051707Z
LAST-MODIFIED:20231007T051707Z
UID:10001137-1698019200-1698105599@achievementprep.org
SUMMARY:Fresh Apple
DESCRIPTION:
URL:https://achievementprep.org/event/fresh-apple-20/
CATEGORIES:Lunch Calendar
ATTACH;FMTTYPE=image/jpeg:https://achievementprep.org/wp-content/uploads/2023/09/fresh-apple.jpg
END:VEVENT
BEGIN:VEVENT
DTSTART;VALUE=DATE:20231023
DTEND;VALUE=DATE:20231024
DTSTAMP:20260419T193744
CREATED:20231007T051643Z
LAST-MODIFIED:20231007T051643Z
UID:10001136-1698019200-1698105599@achievementprep.org
SUMMARY:Mashed Potato
DESCRIPTION:
URL:https://achievementprep.org/event/mashed-potato/
CATEGORIES:Lunch Calendar
ATTACH;FMTTYPE=image/jpeg:https://achievementprep.org/wp-content/uploads/2023/10/MashedPotatoe.jpg
END:VEVENT
BEGIN:VEVENT
DTSTART;VALUE=DATE:20231023
DTEND;VALUE=DATE:20231024
DTSTAMP:20260419T193744
CREATED:20231007T051207Z
LAST-MODIFIED:20231007T051207Z
UID:10001135-1698019200-1698105599@achievementprep.org
SUMMARY:Meatloaf with Gravy
DESCRIPTION:
URL:https://achievementprep.org/event/meatloaf-with-gravy/
CATEGORIES:Lunch Calendar
ATTACH;FMTTYPE=image/jpeg:https://achievementprep.org/wp-content/uploads/2023/10/MeatloafWGravy.jpg
END:VEVENT
BEGIN:VEVENT
DTSTART;VALUE=DATE:20231023
DTEND;VALUE=DATE:20231024
DTSTAMP:20260419T193744
CREATED:20231007T023336Z
LAST-MODIFIED:20231007T023336Z
UID:10001061-1698019200-1698105599@achievementprep.org
SUMMARY:100% Pineapple Juice
DESCRIPTION:
URL:https://achievementprep.org/event/100-pineapple-juice-4/
CATEGORIES:Breakfast Calendar
ATTACH;FMTTYPE=image/jpeg:https://achievementprep.org/wp-content/uploads/2023/09/Pineapple-juice-1.jpg
END:VEVENT
BEGIN:VEVENT
DTSTART;VALUE=DATE:20231023
DTEND;VALUE=DATE:20231024
DTSTAMP:20260419T193744
CREATED:20231007T023312Z
LAST-MODIFIED:20231007T023312Z
UID:10001060-1698019200-1698105599@achievementprep.org
SUMMARY:Fresh Pear
DESCRIPTION:
URL:https://achievementprep.org/event/fresh-pear-6/
CATEGORIES:Breakfast Calendar
ATTACH;FMTTYPE=image/jpeg:https://achievementprep.org/wp-content/uploads/2023/09/pear.jpg
END:VEVENT
BEGIN:VEVENT
DTSTART;VALUE=DATE:20231023
DTEND;VALUE=DATE:20231024
DTSTAMP:20260419T193744
CREATED:20231007T023258Z
LAST-MODIFIED:20231007T023258Z
UID:10001059-1698019200-1698105599@achievementprep.org
SUMMARY:Cherry Cocoa Bar
DESCRIPTION:
URL:https://achievementprep.org/event/cherry-cocoa-bar-3/
CATEGORIES:Breakfast Calendar
ATTACH;FMTTYPE=image/jpeg:https://achievementprep.org/wp-content/uploads/2023/09/91NHSq1J3tL.jpg
END:VEVENT
BEGIN:VEVENT
DTSTART;VALUE=DATE:20231023
DTEND;VALUE=DATE:20231024
DTSTAMP:20260419T193744
CREATED:20230830T160207Z
LAST-MODIFIED:20230830T160207Z
UID:10000859-1698019200-1698105599@achievementprep.org
SUMMARY:Fall Spirit Week
DESCRIPTION:
URL:https://achievementprep.org/event/fall-spirit-week/2023-10-23/
LOCATION:Achievement Prep\, 908 Wahler Place SE\, Washington\, DC\, 20032\, United States
CATEGORIES:Academic Calendar
END:VEVENT
BEGIN:VEVENT
DTSTART;VALUE=DATE:20231020
DTEND;VALUE=DATE:20231021
DTSTAMP:20260419T193744
CREATED:20231007T050436Z
LAST-MODIFIED:20231007T050436Z
UID:10001134-1697760000-1697846399@achievementprep.org
SUMMARY:Fresh Apple
DESCRIPTION:
URL:https://achievementprep.org/event/fresh-apple-19/
CATEGORIES:Lunch Calendar
ATTACH;FMTTYPE=image/jpeg:https://achievementprep.org/wp-content/uploads/2023/09/fresh-apple.jpg
END:VEVENT
BEGIN:VEVENT
DTSTART;VALUE=DATE:20231020
DTEND;VALUE=DATE:20231021
DTSTAMP:20260419T193744
CREATED:20231007T050410Z
LAST-MODIFIED:20231007T050410Z
UID:10001133-1697760000-1697846399@achievementprep.org
SUMMARY:Ranch Dressing
DESCRIPTION:
URL:https://achievementprep.org/event/ranch-dressing-7/
CATEGORIES:Lunch Calendar
ATTACH;FMTTYPE=image/jpeg:https://achievementprep.org/wp-content/uploads/2023/09/ranch-dressing.jpg
END:VEVENT
BEGIN:VEVENT
DTSTART;VALUE=DATE:20231020
DTEND;VALUE=DATE:20231021
DTSTAMP:20260419T193744
CREATED:20231007T050350Z
LAST-MODIFIED:20231007T050350Z
UID:10001132-1697760000-1697846399@achievementprep.org
SUMMARY:Celery Sticks
DESCRIPTION:
URL:https://achievementprep.org/event/celery-sticks-2/
CATEGORIES:Lunch Calendar
ATTACH;FMTTYPE=image/jpeg:https://achievementprep.org/wp-content/uploads/2023/10/CelerySticks.jpg
END:VEVENT
BEGIN:VEVENT
DTSTART;VALUE=DATE:20231020
DTEND;VALUE=DATE:20231021
DTSTAMP:20260419T193744
CREATED:20231007T050321Z
LAST-MODIFIED:20231007T050321Z
UID:10001131-1697760000-1697846399@achievementprep.org
SUMMARY:French Bread Cheese Pizza
DESCRIPTION:
URL:https://achievementprep.org/event/french-bread-cheese-pizza-3/
CATEGORIES:Lunch Calendar
ATTACH;FMTTYPE=image/jpeg:https://achievementprep.org/wp-content/uploads/2023/09/French-bread-cheese-pizza.jpg
END:VEVENT
BEGIN:VEVENT
DTSTART;VALUE=DATE:20231020
DTEND;VALUE=DATE:20231021
DTSTAMP:20260419T193744
CREATED:20231007T023154Z
LAST-MODIFIED:20231007T023154Z
UID:10001058-1697760000-1697846399@achievementprep.org
SUMMARY:100% Grape Juice
DESCRIPTION:
URL:https://achievementprep.org/event/100-grape-juice-14/
CATEGORIES:Breakfast Calendar
ATTACH;FMTTYPE=image/jpeg:https://achievementprep.org/wp-content/uploads/2023/10/GrapeJuice.jpg
END:VEVENT
END:VCALENDAR