BEGIN:VCALENDAR
VERSION:2.0
PRODID:-//Achievement Prep DC - ECPv6.15.15//NONSGML v1.0//EN
CALSCALE:GREGORIAN
METHOD:PUBLISH
X-ORIGINAL-URL:https://achievementprep.org
X-WR-CALDESC:Events for Achievement Prep DC
REFRESH-INTERVAL;VALUE=DURATION:PT1H
X-Robots-Tag:noindex
X-PUBLISHED-TTL:PT1H
BEGIN:VTIMEZONE
TZID:America/New_York
BEGIN:DAYLIGHT
TZOFFSETFROM:-0500
TZOFFSETTO:-0400
TZNAME:EDT
DTSTART:20230312T070000
END:DAYLIGHT
BEGIN:STANDARD
TZOFFSETFROM:-0400
TZOFFSETTO:-0500
TZNAME:EST
DTSTART:20231105T060000
END:STANDARD
BEGIN:DAYLIGHT
TZOFFSETFROM:-0500
TZOFFSETTO:-0400
TZNAME:EDT
DTSTART:20240310T070000
END:DAYLIGHT
BEGIN:STANDARD
TZOFFSETFROM:-0400
TZOFFSETTO:-0500
TZNAME:EST
DTSTART:20241103T060000
END:STANDARD
BEGIN:DAYLIGHT
TZOFFSETFROM:-0500
TZOFFSETTO:-0400
TZNAME:EDT
DTSTART:20250309T070000
END:DAYLIGHT
BEGIN:STANDARD
TZOFFSETFROM:-0400
TZOFFSETTO:-0500
TZNAME:EST
DTSTART:20251102T060000
END:STANDARD
END:VTIMEZONE
BEGIN:VEVENT
DTSTART;VALUE=DATE:20240405
DTEND;VALUE=DATE:20240406
DTSTAMP:20260419T135025
CREATED:20240408T172131Z
LAST-MODIFIED:20240408T172131Z
UID:10001937-1712275200-1712361599@achievementprep.org
SUMMARY:Fresh Apple
DESCRIPTION:
URL:https://achievementprep.org/event/fresh-apple-78/
CATEGORIES:Lunch Calendar
ATTACH;FMTTYPE=image/jpeg:https://achievementprep.org/wp-content/uploads/2023/09/fresh-apple.jpg
END:VEVENT
BEGIN:VEVENT
DTSTART;VALUE=DATE:20240405
DTEND;VALUE=DATE:20240406
DTSTAMP:20260419T135025
CREATED:20240408T201502Z
LAST-MODIFIED:20240408T201502Z
UID:10001965-1712275200-1712361599@achievementprep.org
SUMMARY:French Bread Cheese Pizza
DESCRIPTION:
URL:https://achievementprep.org/event/french-bread-cheese-pizza-12/
CATEGORIES:Lunch Calendar
ATTACH;FMTTYPE=image/jpeg:https://achievementprep.org/wp-content/uploads/2023/09/French-bread-cheese-pizza.jpg
END:VEVENT
BEGIN:VEVENT
DTSTART;VALUE=DATE:20240405
DTEND;VALUE=DATE:20240406
DTSTAMP:20260419T135025
CREATED:20240408T201620Z
LAST-MODIFIED:20240408T201620Z
UID:10001968-1712275200-1712361599@achievementprep.org
SUMMARY:Celery Sticks
DESCRIPTION:
URL:https://achievementprep.org/event/celery-sticks-6/
CATEGORIES:Lunch Calendar
ATTACH;FMTTYPE=image/jpeg:https://achievementprep.org/wp-content/uploads/2023/10/CelerySticks.jpg
END:VEVENT
BEGIN:VEVENT
DTSTART;VALUE=DATE:20240405
DTEND;VALUE=DATE:20240406
DTSTAMP:20260419T135025
CREATED:20240408T201641Z
LAST-MODIFIED:20240408T201641Z
UID:10001969-1712275200-1712361599@achievementprep.org
SUMMARY:Ranch Dressing
DESCRIPTION:
URL:https://achievementprep.org/event/ranch-dressing-25/
CATEGORIES:Lunch Calendar
ATTACH;FMTTYPE=image/jpeg:https://achievementprep.org/wp-content/uploads/2023/09/ranch-dressing.jpg
END:VEVENT
BEGIN:VEVENT
DTSTART;VALUE=DATE:20240408
DTEND;VALUE=DATE:20240409
DTSTAMP:20260419T135025
CREATED:20240408T152508Z
LAST-MODIFIED:20240408T152508Z
UID:10001902-1712534400-1712620799@achievementprep.org
SUMMARY:Cherry Cocoa Bar
DESCRIPTION:
URL:https://achievementprep.org/event/cherry-cocoa-bar-12/
CATEGORIES:Breakfast Calendar
ATTACH;FMTTYPE=image/jpeg:https://achievementprep.org/wp-content/uploads/2023/09/91NHSq1J3tL.jpg
END:VEVENT
BEGIN:VEVENT
DTSTART;VALUE=DATE:20240408
DTEND;VALUE=DATE:20240409
DTSTAMP:20260419T135025
CREATED:20240408T153014Z
LAST-MODIFIED:20240408T153014Z
UID:10001904-1712534400-1712620799@achievementprep.org
SUMMARY:Very Berry Juice
DESCRIPTION:
URL:https://achievementprep.org/event/very-berry-juice-4/
CATEGORIES:Breakfast Calendar
END:VEVENT
BEGIN:VEVENT
DTSTART;VALUE=DATE:20240408
DTEND;VALUE=DATE:20240409
DTSTAMP:20260419T135025
CREATED:20240408T172152Z
LAST-MODIFIED:20240408T172152Z
UID:10001938-1712534400-1712620799@achievementprep.org
SUMMARY:Fresh Apple
DESCRIPTION:
URL:https://achievementprep.org/event/fresh-apple-79/
CATEGORIES:Lunch Calendar
ATTACH;FMTTYPE=image/jpeg:https://achievementprep.org/wp-content/uploads/2023/09/fresh-apple.jpg
END:VEVENT
BEGIN:VEVENT
DTSTART;VALUE=DATE:20240408
DTEND;VALUE=DATE:20240409
DTSTAMP:20260419T135025
CREATED:20240408T201804Z
LAST-MODIFIED:20240408T201804Z
UID:10001972-1712534400-1712620799@achievementprep.org
SUMMARY:Meatloaf with Gravy
DESCRIPTION:
URL:https://achievementprep.org/event/meatloaf-with-gravy-5/
CATEGORIES:Lunch Calendar
ATTACH;FMTTYPE=image/jpeg:https://achievementprep.org/wp-content/uploads/2023/10/MeatloafWGravy.jpg
END:VEVENT
BEGIN:VEVENT
DTSTART;VALUE=DATE:20240408
DTEND;VALUE=DATE:20240409
DTSTAMP:20260419T135025
CREATED:20240408T201827Z
LAST-MODIFIED:20240408T201827Z
UID:10001973-1712534400-1712620799@achievementprep.org
SUMMARY:Mashed Potato
DESCRIPTION:
URL:https://achievementprep.org/event/mashed-potato-6/
CATEGORIES:Lunch Calendar
ATTACH;FMTTYPE=image/jpeg:https://achievementprep.org/wp-content/uploads/2023/10/MashedPotatoe.jpg
END:VEVENT
BEGIN:VEVENT
DTSTART;VALUE=DATE:20240409
DTEND;VALUE=DATE:20240410
DTSTAMP:20260419T135025
CREATED:20240407T191538Z
LAST-MODIFIED:20240407T191538Z
UID:10001864-1712620800-1712707199@achievementprep.org
SUMMARY:Strawberry Yogurt
DESCRIPTION:
URL:https://achievementprep.org/event/strawberry-yogurt-24/
CATEGORIES:Breakfast Calendar
ATTACH;FMTTYPE=image/jpeg:https://achievementprep.org/wp-content/uploads/2023/09/4-oz-strawberry-yogurt-single-serve.jpg
END:VEVENT
BEGIN:VEVENT
DTSTART;VALUE=DATE:20240409
DTEND;VALUE=DATE:20240410
DTSTAMP:20260419T135025
CREATED:20240407T191750Z
LAST-MODIFIED:20240407T191750Z
UID:10001870-1712620800-1712707199@achievementprep.org
SUMMARY:Graham Crackers
DESCRIPTION:
URL:https://achievementprep.org/event/graham-crackers-68/
CATEGORIES:Breakfast Calendar
ATTACH;FMTTYPE=image/jpeg:https://achievementprep.org/wp-content/uploads/2023/09/honey-graham-crackers.jpg
END:VEVENT
BEGIN:VEVENT
DTSTART;VALUE=DATE:20240409
DTEND;VALUE=DATE:20240410
DTSTAMP:20260419T135025
CREATED:20240407T192048Z
LAST-MODIFIED:20240407T192048Z
UID:10001878-1712620800-1712707199@achievementprep.org
SUMMARY:Apple Slices
DESCRIPTION:
URL:https://achievementprep.org/event/apple-slices-44/
CATEGORIES:Breakfast Calendar
ATTACH;FMTTYPE=image/jpeg:https://achievementprep.org/wp-content/uploads/2023/09/istockphoto-529688068-612x612-1.jpg
END:VEVENT
BEGIN:VEVENT
DTSTART;VALUE=DATE:20240409
DTEND;VALUE=DATE:20240410
DTSTAMP:20260419T135025
CREATED:20240408T150745Z
LAST-MODIFIED:20240408T150745Z
UID:10001884-1712620800-1712707199@achievementprep.org
SUMMARY:Diced Pineapples
DESCRIPTION:
URL:https://achievementprep.org/event/diced-pineapples-24/
CATEGORIES:Breakfast Calendar
ATTACH;FMTTYPE=image/jpeg:https://achievementprep.org/wp-content/uploads/2023/09/Org-Diced-Pineapple.jpg
END:VEVENT
BEGIN:VEVENT
DTSTART;VALUE=DATE:20240409
DTEND;VALUE=DATE:20240410
DTSTAMP:20260419T135025
CREATED:20240408T171628Z
LAST-MODIFIED:20240408T171628Z
UID:10001929-1712620800-1712707199@achievementprep.org
SUMMARY:BBQ Chicken
DESCRIPTION:
URL:https://achievementprep.org/event/bbq-chicken-8/
CATEGORIES:Lunch Calendar
ATTACH;FMTTYPE=image/jpeg:https://achievementprep.org/wp-content/uploads/2023/09/barbecue-chicken.jpg
END:VEVENT
BEGIN:VEVENT
DTSTART;VALUE=DATE:20240409
DTEND;VALUE=DATE:20240410
DTSTAMP:20260419T135025
CREATED:20240408T171939Z
LAST-MODIFIED:20240408T171939Z
UID:10001933-1712620800-1712707199@achievementprep.org
SUMMARY:Baked Beans
DESCRIPTION:
URL:https://achievementprep.org/event/baked-beans-14/
CATEGORIES:Lunch Calendar
ATTACH;FMTTYPE=image/jpeg:https://achievementprep.org/wp-content/uploads/2023/09/ketchup-and-baked-beans.jpg
END:VEVENT
BEGIN:VEVENT
DTSTART;VALUE=DATE:20240409
DTEND;VALUE=DATE:20240410
DTSTAMP:20260419T135025
CREATED:20240408T173107Z
LAST-MODIFIED:20240408T173107Z
UID:10001949-1712620800-1712707199@achievementprep.org
SUMMARY:Fresh Pear
DESCRIPTION:
URL:https://achievementprep.org/event/fresh-pear-38/
CATEGORIES:Lunch Calendar
ATTACH;FMTTYPE=image/jpeg:https://achievementprep.org/wp-content/uploads/2023/09/pear.jpg
END:VEVENT
BEGIN:VEVENT
DTSTART;VALUE=DATE:20240410
DTEND;VALUE=DATE:20240411
DTSTAMP:20260419T135025
CREATED:20240407T191808Z
LAST-MODIFIED:20240407T191808Z
UID:10001871-1712707200-1712793599@achievementprep.org
SUMMARY:Graham Crackers
DESCRIPTION:
URL:https://achievementprep.org/event/graham-crackers-69/
CATEGORIES:Breakfast Calendar
ATTACH;FMTTYPE=image/jpeg:https://achievementprep.org/wp-content/uploads/2023/09/honey-graham-crackers.jpg
END:VEVENT
BEGIN:VEVENT
DTSTART;VALUE=DATE:20240410
DTEND;VALUE=DATE:20240411
DTSTAMP:20260419T135025
CREATED:20240408T151115Z
LAST-MODIFIED:20240408T151115Z
UID:10001889-1712707200-1712793599@achievementprep.org
SUMMARY:Diced Peaches
DESCRIPTION:
URL:https://achievementprep.org/event/diced-peaches-25/
CATEGORIES:Breakfast Calendar
ATTACH;FMTTYPE=image/jpeg:https://achievementprep.org/wp-content/uploads/2023/09/Org-Diced-Peaches.jpg
END:VEVENT
BEGIN:VEVENT
DTSTART;VALUE=DATE:20240410
DTEND;VALUE=DATE:20240411
DTSTAMP:20260419T135025
CREATED:20240408T151241Z
LAST-MODIFIED:20240408T151241Z
UID:10001893-1712707200-1712793599@achievementprep.org
SUMMARY:100% Grape Juice
DESCRIPTION:
URL:https://achievementprep.org/event/100-grape-juice-48/
CATEGORIES:Breakfast Calendar
ATTACH;FMTTYPE=image/jpeg:https://achievementprep.org/wp-content/uploads/2023/10/GrapeJuice.jpg
END:VEVENT
BEGIN:VEVENT
DTSTART;VALUE=DATE:20240410
DTEND;VALUE=DATE:20240411
DTSTAMP:20260419T135025
CREATED:20240408T153104Z
LAST-MODIFIED:20240408T153104Z
UID:10001906-1712707200-1712793599@achievementprep.org
SUMMARY:Honey Cheerios
DESCRIPTION:
URL:https://achievementprep.org/event/honey-cheerios-10/
CATEGORIES:Breakfast Calendar
ATTACH;FMTTYPE=image/jpeg:https://achievementprep.org/wp-content/uploads/2023/09/honey-cheerios.jpg
END:VEVENT
BEGIN:VEVENT
DTSTART;VALUE=DATE:20240410
DTEND;VALUE=DATE:20240411
DTSTAMP:20260419T135025
CREATED:20240408T172231Z
LAST-MODIFIED:20240408T172231Z
UID:10001939-1712707200-1712793599@achievementprep.org
SUMMARY:Fresh Apple
DESCRIPTION:
URL:https://achievementprep.org/event/fresh-apple-80/
CATEGORIES:Lunch Calendar
ATTACH;FMTTYPE=image/jpeg:https://achievementprep.org/wp-content/uploads/2023/09/fresh-apple.jpg
END:VEVENT
BEGIN:VEVENT
DTSTART;VALUE=DATE:20240410
DTEND;VALUE=DATE:20240411
DTSTAMP:20260419T135025
CREATED:20240408T174609Z
LAST-MODIFIED:20240408T174609Z
UID:10001954-1712707200-1712793599@achievementprep.org
SUMMARY:Cold Roasted Turkey on Wheat
DESCRIPTION:
URL:https://achievementprep.org/event/cold-roasted-turkey-on-wheat-18/
CATEGORIES:Lunch Calendar
ATTACH;FMTTYPE=image/jpeg:https://achievementprep.org/wp-content/uploads/2023/11/TurkeyOnWheat.jpg
END:VEVENT
BEGIN:VEVENT
DTSTART;VALUE=DATE:20240410
DTEND;VALUE=DATE:20240411
DTSTAMP:20260419T135025
CREATED:20240408T201153Z
LAST-MODIFIED:20240408T201153Z
UID:10001958-1712707200-1712793599@achievementprep.org
SUMMARY:Baby Carrots
DESCRIPTION:
URL:https://achievementprep.org/event/baby-carrots-19/
CATEGORIES:Lunch Calendar
ATTACH;FMTTYPE=image/jpeg:https://achievementprep.org/wp-content/uploads/2023/09/baby-carrots.jpg
END:VEVENT
BEGIN:VEVENT
DTSTART;VALUE=DATE:20240411
DTEND;VALUE=DATE:20240412
DTSTAMP:20260419T135025
CREATED:20240407T192106Z
LAST-MODIFIED:20240407T192106Z
UID:10001879-1712793600-1712879999@achievementprep.org
SUMMARY:Apple Slices
DESCRIPTION:
URL:https://achievementprep.org/event/apple-slices-45/
CATEGORIES:Breakfast Calendar
ATTACH;FMTTYPE=image/jpeg:https://achievementprep.org/wp-content/uploads/2023/09/istockphoto-529688068-612x612-1.jpg
END:VEVENT
BEGIN:VEVENT
DTSTART;VALUE=DATE:20240411
DTEND;VALUE=DATE:20240412
DTSTAMP:20260419T135025
CREATED:20240408T152407Z
LAST-MODIFIED:20240408T152407Z
UID:10001900-1712793600-1712879999@achievementprep.org
SUMMARY:100% Orange Juice
DESCRIPTION:
URL:https://achievementprep.org/event/100-orange-juice-24/
CATEGORIES:Breakfast Calendar
ATTACH;FMTTYPE=image/jpeg:https://achievementprep.org/wp-content/uploads/2023/09/orange-juice.jpg
END:VEVENT
BEGIN:VEVENT
DTSTART;VALUE=DATE:20240411
DTEND;VALUE=DATE:20240412
DTSTAMP:20260419T135025
CREATED:20240408T153133Z
LAST-MODIFIED:20240408T153133Z
UID:10001907-1712793600-1712879999@achievementprep.org
SUMMARY:Plain Bagel
DESCRIPTION:
URL:https://achievementprep.org/event/plain-bagel-13/
CATEGORIES:Breakfast Calendar
ATTACH;FMTTYPE=image/png:https://achievementprep.org/wp-content/uploads/2023/09/Screenshot-2023-09-18-at-9.12.46-AM.png
END:VEVENT
BEGIN:VEVENT
DTSTART;VALUE=DATE:20240411
DTEND;VALUE=DATE:20240412
DTSTAMP:20260419T135025
CREATED:20240408T153223Z
LAST-MODIFIED:20240408T153223Z
UID:10001909-1712793600-1712879999@achievementprep.org
SUMMARY:Cream Cheese
DESCRIPTION:
URL:https://achievementprep.org/event/cream-cheese-15/
CATEGORIES:Breakfast Calendar
ATTACH;FMTTYPE=image/jpeg:https://achievementprep.org/wp-content/uploads/2023/09/PH-cream-cheese.jpg
END:VEVENT
BEGIN:VEVENT
DTSTART;VALUE=DATE:20240411
DTEND;VALUE=DATE:20240412
DTSTAMP:20260419T135025
CREATED:20240408T201406Z
LAST-MODIFIED:20240408T201406Z
UID:10001963-1712793600-1712879999@achievementprep.org
SUMMARY:Fresh Banana
DESCRIPTION:
URL:https://achievementprep.org/event/fresh-banana-27/
CATEGORIES:Lunch Calendar
ATTACH;FMTTYPE=image/jpeg:https://achievementprep.org/wp-content/uploads/2023/09/banana.jpg
END:VEVENT
BEGIN:VEVENT
DTSTART;VALUE=DATE:20240411
DTEND;VALUE=DATE:20240412
DTSTAMP:20260419T135025
CREATED:20240408T201928Z
LAST-MODIFIED:20240408T201928Z
UID:10001974-1712793600-1712879999@achievementprep.org
SUMMARY:Turkey Fajita
DESCRIPTION:
URL:https://achievementprep.org/event/turkey-fajita-6/
CATEGORIES:Lunch Calendar
ATTACH;FMTTYPE=image/jpeg:https://achievementprep.org/wp-content/uploads/2023/09/Turkey-Fajitas.jpg
END:VEVENT
BEGIN:VEVENT
DTSTART;VALUE=DATE:20240411
DTEND;VALUE=DATE:20240412
DTSTAMP:20260419T135025
CREATED:20240408T201938Z
LAST-MODIFIED:20240408T201938Z
UID:10001975-1712793600-1712879999@achievementprep.org
SUMMARY:Brown Rice
DESCRIPTION:
URL:https://achievementprep.org/event/brown-rice-12/
CATEGORIES:Lunch Calendar
ATTACH;FMTTYPE=image/jpeg:https://achievementprep.org/wp-content/uploads/2023/10/BrownRice.jpg
END:VEVENT
END:VCALENDAR