BEGIN:VCALENDAR
VERSION:2.0
PRODID:-//Achievement Prep DC - ECPv6.15.15//NONSGML v1.0//EN
CALSCALE:GREGORIAN
METHOD:PUBLISH
X-ORIGINAL-URL:https://achievementprep.org
X-WR-CALDESC:Events for Achievement Prep DC
REFRESH-INTERVAL;VALUE=DURATION:PT1H
X-Robots-Tag:noindex
X-PUBLISHED-TTL:PT1H
BEGIN:VTIMEZONE
TZID:America/New_York
BEGIN:DAYLIGHT
TZOFFSETFROM:-0500
TZOFFSETTO:-0400
TZNAME:EDT
DTSTART:20220313T070000
END:DAYLIGHT
BEGIN:STANDARD
TZOFFSETFROM:-0400
TZOFFSETTO:-0500
TZNAME:EST
DTSTART:20221106T060000
END:STANDARD
BEGIN:DAYLIGHT
TZOFFSETFROM:-0500
TZOFFSETTO:-0400
TZNAME:EDT
DTSTART:20230312T070000
END:DAYLIGHT
BEGIN:STANDARD
TZOFFSETFROM:-0400
TZOFFSETTO:-0500
TZNAME:EST
DTSTART:20231105T060000
END:STANDARD
BEGIN:DAYLIGHT
TZOFFSETFROM:-0500
TZOFFSETTO:-0400
TZNAME:EDT
DTSTART:20240310T070000
END:DAYLIGHT
BEGIN:STANDARD
TZOFFSETFROM:-0400
TZOFFSETTO:-0500
TZNAME:EST
DTSTART:20241103T060000
END:STANDARD
END:VTIMEZONE
BEGIN:VEVENT
DTSTART;VALUE=DATE:20231010
DTEND;VALUE=DATE:20231011
DTSTAMP:20260419T162132
CREATED:20231006T200456Z
LAST-MODIFIED:20231006T200456Z
UID:10001025-1696896000-1696982399@achievementprep.org
SUMMARY:Rasins
DESCRIPTION:
URL:https://achievementprep.org/event/rasins/
CATEGORIES:Breakfast Calendar
ATTACH;FMTTYPE=image/jpeg:https://achievementprep.org/wp-content/uploads/2023/09/raisins-sunmaid.jpg
END:VEVENT
BEGIN:VEVENT
DTSTART;VALUE=DATE:20231010
DTEND;VALUE=DATE:20231011
DTSTAMP:20260419T162132
CREATED:20231006T200550Z
LAST-MODIFIED:20231006T200550Z
UID:10001026-1696896000-1696982399@achievementprep.org
SUMMARY:100% Grape Juice
DESCRIPTION:
URL:https://achievementprep.org/event/100-grape-juice-10/
CATEGORIES:Breakfast Calendar
ATTACH;FMTTYPE=image/jpeg:https://achievementprep.org/wp-content/uploads/2023/10/GrapeJuice.jpg
END:VEVENT
BEGIN:VEVENT
DTSTART;VALUE=DATE:20231010
DTEND;VALUE=DATE:20231011
DTSTAMP:20260419T162132
CREATED:20231007T013310Z
LAST-MODIFIED:20231007T013310Z
UID:10001027-1696896000-1696982399@achievementprep.org
SUMMARY:100% Grape Juice
DESCRIPTION:
URL:https://achievementprep.org/event/100-grape-juice-11/
CATEGORIES:Breakfast Calendar
ATTACH;FMTTYPE=image/jpeg:https://achievementprep.org/wp-content/uploads/2023/10/GrapeJuice.jpg
END:VEVENT
BEGIN:VEVENT
DTSTART;VALUE=DATE:20231010
DTEND;VALUE=DATE:20231011
DTSTAMP:20260419T162132
CREATED:20231007T013434Z
LAST-MODIFIED:20231007T013434Z
UID:10001028-1696896000-1696982399@achievementprep.org
SUMMARY:Raisins
DESCRIPTION:
URL:https://achievementprep.org/event/raisins-4/
CATEGORIES:Breakfast Calendar
ATTACH;FMTTYPE=image/jpeg:https://achievementprep.org/wp-content/uploads/2023/09/raisins-sunmaid.jpg
END:VEVENT
BEGIN:VEVENT
DTSTART;VALUE=DATE:20231010
DTEND;VALUE=DATE:20231011
DTSTAMP:20260419T162132
CREATED:20231007T013547Z
LAST-MODIFIED:20231007T013547Z
UID:10001029-1696896000-1696982399@achievementprep.org
SUMMARY:Cinnamon Crip Bar
DESCRIPTION:
URL:https://achievementprep.org/event/cinnamon-crip-bar/
CATEGORIES:Breakfast Calendar
ATTACH;FMTTYPE=image/jpeg:https://achievementprep.org/wp-content/uploads/2023/09/Unknown.jpeg
END:VEVENT
BEGIN:VEVENT
DTSTART;VALUE=DATE:20231010
DTEND;VALUE=DATE:20231011
DTSTAMP:20260419T162132
CREATED:20231007T040442Z
LAST-MODIFIED:20231007T040442Z
UID:10001100-1696896000-1696982399@achievementprep.org
SUMMARY:Chicken Fajita
DESCRIPTION:
URL:https://achievementprep.org/event/chicken-fajita-2/
CATEGORIES:Lunch Calendar
ATTACH;FMTTYPE=image/jpeg:https://achievementprep.org/wp-content/uploads/2023/09/Chicken-fajitas.jpg
END:VEVENT
BEGIN:VEVENT
DTSTART;VALUE=DATE:20231010
DTEND;VALUE=DATE:20231011
DTSTAMP:20260419T162132
CREATED:20231007T040513Z
LAST-MODIFIED:20231007T040513Z
UID:10001101-1696896000-1696982399@achievementprep.org
SUMMARY:Black Beans & Tomato
DESCRIPTION:
URL:https://achievementprep.org/event/black-beans-tomato-2/
CATEGORIES:Lunch Calendar
ATTACH;FMTTYPE=image/jpeg:https://achievementprep.org/wp-content/uploads/2023/09/Black-beans-and-tomatoes.jpg
END:VEVENT
BEGIN:VEVENT
DTSTART;VALUE=DATE:20231010
DTEND;VALUE=DATE:20231011
DTSTAMP:20260419T162132
CREATED:20231007T040548Z
LAST-MODIFIED:20231007T040548Z
UID:10001102-1696896000-1696982399@achievementprep.org
SUMMARY:Fresh Pear
DESCRIPTION:
URL:https://achievementprep.org/event/fresh-pear-8/
CATEGORIES:Lunch Calendar
ATTACH;FMTTYPE=image/jpeg:https://achievementprep.org/wp-content/uploads/2023/09/pear.jpg
END:VEVENT
BEGIN:VEVENT
DTSTART;VALUE=DATE:20231011
DTEND;VALUE=DATE:20231012
DTSTAMP:20260419T162132
CREATED:20231007T020118Z
LAST-MODIFIED:20231007T020118Z
UID:10001030-1696982400-1697068799@achievementprep.org
SUMMARY:100% Grape Juice
DESCRIPTION:
URL:https://achievementprep.org/event/100-grape-juice-12/
CATEGORIES:Breakfast Calendar
ATTACH;FMTTYPE=image/jpeg:https://achievementprep.org/wp-content/uploads/2023/10/GrapeJuice.jpg
END:VEVENT
BEGIN:VEVENT
DTSTART;VALUE=DATE:20231011
DTEND;VALUE=DATE:20231012
DTSTAMP:20260419T162132
CREATED:20231007T020153Z
LAST-MODIFIED:20231007T020153Z
UID:10001031-1696982400-1697068799@achievementprep.org
SUMMARY:Diced Peaches
DESCRIPTION:
URL:https://achievementprep.org/event/diced-peaches-3/
CATEGORIES:Breakfast Calendar
ATTACH;FMTTYPE=image/jpeg:https://achievementprep.org/wp-content/uploads/2023/09/Org-Diced-Peaches.jpg
END:VEVENT
BEGIN:VEVENT
DTSTART;VALUE=DATE:20231011
DTEND;VALUE=DATE:20231012
DTSTAMP:20260419T162132
CREATED:20231007T020254Z
LAST-MODIFIED:20231007T020254Z
UID:10001032-1696982400-1697068799@achievementprep.org
SUMMARY:Graham Crackers
DESCRIPTION:
URL:https://achievementprep.org/event/graham-crackers-10/
CATEGORIES:Breakfast Calendar
ATTACH;FMTTYPE=image/jpeg:https://achievementprep.org/wp-content/uploads/2023/09/honey-graham-crackers.jpg
END:VEVENT
BEGIN:VEVENT
DTSTART;VALUE=DATE:20231011
DTEND;VALUE=DATE:20231012
DTSTAMP:20260419T162132
CREATED:20231007T020348Z
LAST-MODIFIED:20231007T020348Z
UID:10001033-1696982400-1697068799@achievementprep.org
SUMMARY:Cinnamon Flakes
DESCRIPTION:
URL:https://achievementprep.org/event/cinnamon-flakes-2/
CATEGORIES:Breakfast Calendar
ATTACH;FMTTYPE=image/jpeg:https://achievementprep.org/wp-content/uploads/2023/09/kelloggs-cinamon-flakes-multi-grain.jpg
END:VEVENT
BEGIN:VEVENT
DTSTART;VALUE=DATE:20231011
DTEND;VALUE=DATE:20231012
DTSTAMP:20260419T162132
CREATED:20231007T040825Z
LAST-MODIFIED:20231007T040825Z
UID:10001106-1696982400-1697068799@achievementprep.org
SUMMARY:Spaghetti & Beef Meatballs in Tomato Sauce
DESCRIPTION:
URL:https://achievementprep.org/event/spaghetti-beef-meatballs-in-tomato-sauce-2/
CATEGORIES:Lunch Calendar
ATTACH;FMTTYPE=image/jpeg:https://achievementprep.org/wp-content/uploads/2023/09/spaghetti-meatballs-tomato-basil-sauce-ck.jpg
END:VEVENT
BEGIN:VEVENT
DTSTART;VALUE=DATE:20231011
DTEND;VALUE=DATE:20231012
DTSTAMP:20260419T162132
CREATED:20231007T040848Z
LAST-MODIFIED:20231007T040848Z
UID:10001107-1696982400-1697068799@achievementprep.org
SUMMARY:Broccoli
DESCRIPTION:
URL:https://achievementprep.org/event/broccoli-4/
CATEGORIES:Lunch Calendar
ATTACH;FMTTYPE=image/jpeg:https://achievementprep.org/wp-content/uploads/2023/09/Brocolli.jpg
END:VEVENT
BEGIN:VEVENT
DTSTART;VALUE=DATE:20231011
DTEND;VALUE=DATE:20231012
DTSTAMP:20260419T162132
CREATED:20231007T040913Z
LAST-MODIFIED:20231007T040913Z
UID:10001108-1696982400-1697068799@achievementprep.org
SUMMARY:Fresh Apple
DESCRIPTION:
URL:https://achievementprep.org/event/fresh-apple-15/
CATEGORIES:Lunch Calendar
ATTACH;FMTTYPE=image/jpeg:https://achievementprep.org/wp-content/uploads/2023/09/fresh-apple.jpg
END:VEVENT
BEGIN:VEVENT
DTSTART;VALUE=DATE:20231012
DTEND;VALUE=DATE:20231013
DTSTAMP:20260419T162132
CREATED:20231007T021416Z
LAST-MODIFIED:20231007T021416Z
UID:10001034-1697068800-1697155199@achievementprep.org
SUMMARY:Plain Bagel
DESCRIPTION:
URL:https://achievementprep.org/event/plain-bagel/
CATEGORIES:Breakfast Calendar
ATTACH;FMTTYPE=image/png:https://achievementprep.org/wp-content/uploads/2023/09/Screenshot-2023-09-18-at-9.12.46-AM.png
END:VEVENT
BEGIN:VEVENT
DTSTART;VALUE=DATE:20231012
DTEND;VALUE=DATE:20231013
DTSTAMP:20260419T162132
CREATED:20231007T021446Z
LAST-MODIFIED:20231007T021446Z
UID:10001035-1697068800-1697155199@achievementprep.org
SUMMARY:Cream Cheese
DESCRIPTION:
URL:https://achievementprep.org/event/cream-cheese-3/
CATEGORIES:Breakfast Calendar
ATTACH;FMTTYPE=image/jpeg:https://achievementprep.org/wp-content/uploads/2023/09/PH-cream-cheese.jpg
END:VEVENT
BEGIN:VEVENT
DTSTART;VALUE=DATE:20231012
DTEND;VALUE=DATE:20231013
DTSTAMP:20260419T162132
CREATED:20231007T021512Z
LAST-MODIFIED:20231007T021512Z
UID:10001036-1697068800-1697155199@achievementprep.org
SUMMARY:Apple Slices
DESCRIPTION:
URL:https://achievementprep.org/event/apple-slices-2/
CATEGORIES:Breakfast Calendar
ATTACH;FMTTYPE=image/jpeg:https://achievementprep.org/wp-content/uploads/2023/09/istockphoto-529688068-612x612-1.jpg
END:VEVENT
BEGIN:VEVENT
DTSTART;VALUE=DATE:20231012
DTEND;VALUE=DATE:20231013
DTSTAMP:20260419T162132
CREATED:20231007T021633Z
LAST-MODIFIED:20231007T021633Z
UID:10001037-1697068800-1697155199@achievementprep.org
SUMMARY:100% Orange Juice
DESCRIPTION:
URL:https://achievementprep.org/event/100-orange-juice-5/
CATEGORIES:Breakfast Calendar
ATTACH;FMTTYPE=image/jpeg:https://achievementprep.org/wp-content/uploads/2023/09/orange-juice.jpg
END:VEVENT
BEGIN:VEVENT
DTSTART;VALUE=DATE:20231012
DTEND;VALUE=DATE:20231013
DTSTAMP:20260419T162132
CREATED:20231007T041932Z
LAST-MODIFIED:20231007T041932Z
UID:10001109-1697068800-1697155199@achievementprep.org
SUMMARY:Crispy Cheesy Chicken Biscuit Sandwich
DESCRIPTION:
URL:https://achievementprep.org/event/crispy-cheesy-chicken-biscuit-sandwich/
CATEGORIES:Lunch Calendar
ATTACH;FMTTYPE=image/jpeg:https://achievementprep.org/wp-content/uploads/2023/10/CrispyChicken.jpg
END:VEVENT
BEGIN:VEVENT
DTSTART;VALUE=DATE:20231012
DTEND;VALUE=DATE:20231013
DTSTAMP:20260419T162132
CREATED:20231007T042534Z
LAST-MODIFIED:20231007T042534Z
UID:10001110-1697068800-1697155199@achievementprep.org
SUMMARY:Celery Sticks
DESCRIPTION:
URL:https://achievementprep.org/event/celery-sticks/
CATEGORIES:Lunch Calendar
ATTACH;FMTTYPE=image/jpeg:https://achievementprep.org/wp-content/uploads/2023/10/CelerySticks.jpg
END:VEVENT
BEGIN:VEVENT
DTSTART;VALUE=DATE:20231012
DTEND;VALUE=DATE:20231013
DTSTAMP:20260419T162132
CREATED:20231007T042554Z
LAST-MODIFIED:20231007T042554Z
UID:10001111-1697068800-1697155199@achievementprep.org
SUMMARY:Ranch Dressing
DESCRIPTION:
URL:https://achievementprep.org/event/ranch-dressing-6/
CATEGORIES:Lunch Calendar
ATTACH;FMTTYPE=image/jpeg:https://achievementprep.org/wp-content/uploads/2023/09/ranch-dressing.jpg
END:VEVENT
BEGIN:VEVENT
DTSTART;VALUE=DATE:20231012
DTEND;VALUE=DATE:20231013
DTSTAMP:20260419T162132
CREATED:20231007T042630Z
LAST-MODIFIED:20231007T042630Z
UID:10001112-1697068800-1697155199@achievementprep.org
SUMMARY:Fresh Apple
DESCRIPTION:
URL:https://achievementprep.org/event/fresh-apple-16/
CATEGORIES:Lunch Calendar
ATTACH;FMTTYPE=image/jpeg:https://achievementprep.org/wp-content/uploads/2023/09/fresh-apple.jpg
END:VEVENT
BEGIN:VEVENT
DTSTART;VALUE=DATE:20231013
DTEND;VALUE=DATE:20231014
DTSTAMP:20260419T162132
CREATED:20231007T021702Z
LAST-MODIFIED:20231007T021702Z
UID:10001038-1697155200-1697241599@achievementprep.org
SUMMARY:Blueberry Muffin
DESCRIPTION:
URL:https://achievementprep.org/event/blueberry-muffin-2/
CATEGORIES:Breakfast Calendar
ATTACH;FMTTYPE=image/png:https://achievementprep.org/wp-content/uploads/2023/09/blueberry-muffin.png
END:VEVENT
BEGIN:VEVENT
DTSTART;VALUE=DATE:20231013
DTEND;VALUE=DATE:20231014
DTSTAMP:20260419T162132
CREATED:20231007T021731Z
LAST-MODIFIED:20231007T021731Z
UID:10001039-1697155200-1697241599@achievementprep.org
SUMMARY:Fresh Orange
DESCRIPTION:
URL:https://achievementprep.org/event/fresh-orange/
CATEGORIES:Breakfast Calendar
ATTACH;FMTTYPE=image/jpeg:https://achievementprep.org/wp-content/uploads/2023/09/orange-juice.jpg
END:VEVENT
BEGIN:VEVENT
DTSTART;VALUE=DATE:20231013
DTEND;VALUE=DATE:20231014
DTSTAMP:20260419T162132
CREATED:20231007T021757Z
LAST-MODIFIED:20231007T021757Z
UID:10001040-1697155200-1697241599@achievementprep.org
SUMMARY:100% Pineapple Juice
DESCRIPTION:
URL:https://achievementprep.org/event/100-pineapple-juice-3/
CATEGORIES:Breakfast Calendar
ATTACH;FMTTYPE=image/jpeg:https://achievementprep.org/wp-content/uploads/2023/09/Pineapple-juice-1.jpg
END:VEVENT
BEGIN:VEVENT
DTSTART;VALUE=DATE:20231013
DTEND;VALUE=DATE:20231014
DTSTAMP:20260419T162132
CREATED:20231007T042703Z
LAST-MODIFIED:20231007T042703Z
UID:10001113-1697155200-1697241599@achievementprep.org
SUMMARY:Cheese Pizza
DESCRIPTION:
URL:https://achievementprep.org/event/cheese-pizza-4/
CATEGORIES:Lunch Calendar
ATTACH;FMTTYPE=image/jpeg:https://achievementprep.org/wp-content/uploads/2023/09/cheese-pizza.jpg
END:VEVENT
BEGIN:VEVENT
DTSTART;VALUE=DATE:20231013
DTEND;VALUE=DATE:20231014
DTSTAMP:20260419T162132
CREATED:20231007T042723Z
LAST-MODIFIED:20231007T042723Z
UID:10001114-1697155200-1697241599@achievementprep.org
SUMMARY:Baby Carrots
DESCRIPTION:
URL:https://achievementprep.org/event/baby-carrots-4/
CATEGORIES:Lunch Calendar
ATTACH;FMTTYPE=image/jpeg:https://achievementprep.org/wp-content/uploads/2023/09/baby-carrots.jpg
END:VEVENT
BEGIN:VEVENT
DTSTART;VALUE=DATE:20231013
DTEND;VALUE=DATE:20231014
DTSTAMP:20260419T162132
CREATED:20231007T042742Z
LAST-MODIFIED:20231007T042742Z
UID:10001115-1697155200-1697241599@achievementprep.org
SUMMARY:Fresh Apple
DESCRIPTION:
URL:https://achievementprep.org/event/fresh-apple-17/
CATEGORIES:Lunch Calendar
ATTACH;FMTTYPE=image/jpeg:https://achievementprep.org/wp-content/uploads/2023/09/fresh-apple.jpg
END:VEVENT
BEGIN:VEVENT
DTSTART;VALUE=DATE:20231016
DTEND;VALUE=DATE:20231017
DTSTAMP:20260419T162132
CREATED:20231007T021825Z
LAST-MODIFIED:20231007T021825Z
UID:10001041-1697414400-1697500799@achievementprep.org
SUMMARY:Banana Muffin
DESCRIPTION:
URL:https://achievementprep.org/event/banana-muffin-2/
CATEGORIES:Breakfast Calendar
ATTACH;FMTTYPE=image/jpeg:https://achievementprep.org/wp-content/uploads/2023/09/banana-muffin.jpg
END:VEVENT
END:VCALENDAR