BEGIN:VCALENDAR
VERSION:2.0
PRODID:-//Achievement Prep DC - ECPv6.15.15//NONSGML v1.0//EN
CALSCALE:GREGORIAN
METHOD:PUBLISH
X-ORIGINAL-URL:https://achievementprep.org
X-WR-CALDESC:Events for Achievement Prep DC
REFRESH-INTERVAL;VALUE=DURATION:PT1H
X-Robots-Tag:noindex
X-PUBLISHED-TTL:PT1H
BEGIN:VTIMEZONE
TZID:America/New_York
BEGIN:DAYLIGHT
TZOFFSETFROM:-0500
TZOFFSETTO:-0400
TZNAME:EDT
DTSTART:20220313T070000
END:DAYLIGHT
BEGIN:STANDARD
TZOFFSETFROM:-0400
TZOFFSETTO:-0500
TZNAME:EST
DTSTART:20221106T060000
END:STANDARD
BEGIN:DAYLIGHT
TZOFFSETFROM:-0500
TZOFFSETTO:-0400
TZNAME:EDT
DTSTART:20230312T070000
END:DAYLIGHT
BEGIN:STANDARD
TZOFFSETFROM:-0400
TZOFFSETTO:-0500
TZNAME:EST
DTSTART:20231105T060000
END:STANDARD
BEGIN:DAYLIGHT
TZOFFSETFROM:-0500
TZOFFSETTO:-0400
TZNAME:EDT
DTSTART:20240310T070000
END:DAYLIGHT
BEGIN:STANDARD
TZOFFSETFROM:-0400
TZOFFSETTO:-0500
TZNAME:EST
DTSTART:20241103T060000
END:STANDARD
END:VTIMEZONE
BEGIN:VEVENT
DTSTART;VALUE=DATE:20231207
DTEND;VALUE=DATE:20231208
DTSTAMP:20260421T034232
CREATED:20231128T210031Z
LAST-MODIFIED:20231128T210031Z
UID:10001391-1701907200-1701993599@achievementprep.org
SUMMARY:Apple Slices
DESCRIPTION:
URL:https://achievementprep.org/event/apple-slices-17/
CATEGORIES:Breakfast Calendar
ATTACH;FMTTYPE=image/jpeg:https://achievementprep.org/wp-content/uploads/2023/09/istockphoto-529688068-612x612-1.jpg
END:VEVENT
BEGIN:VEVENT
DTSTART;VALUE=DATE:20231207
DTEND;VALUE=DATE:20231208
DTSTAMP:20260421T034232
CREATED:20231128T210515Z
LAST-MODIFIED:20231128T210515Z
UID:10001403-1701907200-1701993599@achievementprep.org
SUMMARY:Plain Bagel
DESCRIPTION:
URL:https://achievementprep.org/event/plain-bagel-4/
CATEGORIES:Breakfast Calendar
ATTACH;FMTTYPE=image/png:https://achievementprep.org/wp-content/uploads/2023/09/Screenshot-2023-09-18-at-9.12.46-AM.png
END:VEVENT
BEGIN:VEVENT
DTSTART;VALUE=DATE:20231207
DTEND;VALUE=DATE:20231208
DTSTAMP:20260421T034232
CREATED:20231128T210553Z
LAST-MODIFIED:20231128T210553Z
UID:10001405-1701907200-1701993599@achievementprep.org
SUMMARY:Cream Cheese
DESCRIPTION:
URL:https://achievementprep.org/event/cream-cheese-6/
CATEGORIES:Breakfast Calendar
ATTACH;FMTTYPE=image/jpeg:https://achievementprep.org/wp-content/uploads/2023/09/PH-cream-cheese.jpg
END:VEVENT
BEGIN:VEVENT
DTSTART;VALUE=DATE:20231207
DTEND;VALUE=DATE:20231208
DTSTAMP:20260421T034232
CREATED:20231128T210642Z
LAST-MODIFIED:20231128T210642Z
UID:10001407-1701907200-1701993599@achievementprep.org
SUMMARY:100% Orange Juice
DESCRIPTION:
URL:https://achievementprep.org/event/100-orange-juice-12/
CATEGORIES:Breakfast Calendar
ATTACH;FMTTYPE=image/jpeg:https://achievementprep.org/wp-content/uploads/2023/09/orange-juice.jpg
END:VEVENT
BEGIN:VEVENT
DTSTART;VALUE=DATE:20231207
DTEND;VALUE=DATE:20231208
DTSTAMP:20260421T034232
CREATED:20231128T212214Z
LAST-MODIFIED:20231128T212214Z
UID:10001445-1701907200-1701993599@achievementprep.org
SUMMARY:Cobb Salad w/Pita Bread
DESCRIPTION:
URL:https://achievementprep.org/event/cobb-salad-w-pita-bread-2/
CATEGORIES:Lunch Calendar
ATTACH;FMTTYPE=image/jpeg:https://achievementprep.org/wp-content/uploads/2023/11/CobbSalad.jpg
END:VEVENT
BEGIN:VEVENT
DTSTART;VALUE=DATE:20231207
DTEND;VALUE=DATE:20231208
DTSTAMP:20260421T034232
CREATED:20231128T212243Z
LAST-MODIFIED:20231128T212243Z
UID:10001446-1701907200-1701993599@achievementprep.org
SUMMARY:Fresh Banana
DESCRIPTION:
URL:https://achievementprep.org/event/fresh-banana-11/
CATEGORIES:Lunch Calendar
ATTACH;FMTTYPE=image/jpeg:https://achievementprep.org/wp-content/uploads/2023/09/banana.jpg
END:VEVENT
END:VCALENDAR